BEGIN:VCALENDAR
PRODID:-//HKUST Drupal Platform//EN
VERSION:2.0
BEGIN:VTIMEZONE
TZID:Asia/Hong_Kong
BEGIN:STANDARD
DTSTART:20071104T020000
TZOFFSETFROM:+0700
TZOFFSETTO:+0800
TZNAME:HKT
END:STANDARD
END:VTIMEZONE
BEGIN:VEVENT
DTSTAMP;TZID=Asia/Hong_Kong:20260425T051222
DTSTART;TZID=Asia/Hong_Kong:20170818T133000
DTEND;TZID=Asia/Hong_Kong:20170818T163000
LOCATION:Room 2571B (Lifts 27-28), 2/F Academic Building, HKUST
SUMMARY:PhD in Mechanical Engineering - Nanostructured Oxygen Electrodes for Lithium-Oxygen Batteries: Performance and Mechanistic Insights
UID:25543
END:VEVENT
END:VCALENDAR