BEGIN:VCALENDAR
PRODID:-//HKUST Drupal Platform//EN
VERSION:2.0
BEGIN:VTIMEZONE
TZID:Asia/Hong_Kong
BEGIN:STANDARD
DTSTART:20071104T020000
TZOFFSETFROM:+0700
TZOFFSETTO:+0800
TZNAME:HKT
END:STANDARD
END:VTIMEZONE
BEGIN:VEVENT
DTSTAMP;TZID=Asia/Hong_Kong:20260425T111630
DTSTART;TZID=Asia/Hong_Kong:20170818T143000
DTEND;TZID=Asia/Hong_Kong:20170818T153000
LOCATION:Room 2302 (Lifts 17-18) 2/F Academic Building
SUMMARY:MPhil in Environmental Science, Policy and Management - Particle Size Characteristics Based on HR-ToF-AMS Measurements at Two Suburban Sites in the PRD Region
UID:25540
END:VEVENT
END:VCALENDAR