BEGIN:VCALENDAR
PRODID:-//HKUST Drupal Platform//EN
VERSION:2.0
BEGIN:VTIMEZONE
TZID:Asia/Hong_Kong
BEGIN:STANDARD
DTSTART:20071104T020000
TZOFFSETFROM:+0700
TZOFFSETTO:+0800
TZNAME:HKT
END:STANDARD
END:VTIMEZONE
BEGIN:VEVENT
DTSTAMP;TZID=Asia/Hong_Kong:20260425T044621
DTSTART;TZID=Asia/Hong_Kong:20170818T150000
DTEND;TZID=Asia/Hong_Kong:20170818T180000
LOCATION:Room 2611 (Lifts 31-32), 2/F Academic Building, HKUST
SUMMARY:PhD in Computer Science & Engg - Task Assignment and Scheduling for Some Location-Based Services
UID:25537
END:VEVENT
END:VCALENDAR