BEGIN:VCALENDAR
PRODID:-//HKUST Drupal Platform//EN
VERSION:2.0
BEGIN:VTIMEZONE
TZID:Asia/Hong_Kong
BEGIN:STANDARD
DTSTART:20071104T020000
TZOFFSETFROM:+0700
TZOFFSETTO:+0800
TZNAME:HKT
END:STANDARD
END:VTIMEZONE
BEGIN:VEVENT
DTSTAMP;TZID=Asia/Hong_Kong:20260425T111630
DTSTART;TZID=Asia/Hong_Kong:20170818T150000
DTEND;TZID=Asia/Hong_Kong:20170818T180000
LOCATION:Room 3401 (via lifts 17-18), Academic Building, HKUST
SUMMARY:MPhil in Social Science - Public Housing in Colonial Hong Kong: Historical Formation and Transformation during the 1950s and 1960s
UID:25535
END:VEVENT
END:VCALENDAR