BEGIN:VCALENDAR
PRODID:-//HKUST Drupal Platform//EN
VERSION:2.0
BEGIN:VTIMEZONE
TZID:Asia/Hong_Kong
BEGIN:STANDARD
DTSTART:20071104T020000
TZOFFSETFROM:+0700
TZOFFSETTO:+0800
TZNAME:HKT
END:STANDARD
END:VTIMEZONE
BEGIN:VEVENT
DTSTAMP;TZID=Asia/Hong_Kong:20260425T051222
DTSTART;TZID=Asia/Hong_Kong:20170821T100000
DTEND;TZID=Asia/Hong_Kong:20170821T130000
LOCATION:Room 4582 (Lifts 29-30), 4/F Academic Building, HKUST
SUMMARY:PhD in Chem & Biomolecular Engg - Optimization and Integration Method of Integrated Gasification Combined Cycle System Based on Novel Simplified Models
UID:25528
END:VEVENT
END:VCALENDAR