BEGIN:VCALENDAR
PRODID:-//HKUST Drupal Platform//EN
VERSION:2.0
BEGIN:VTIMEZONE
TZID:Asia/Hong_Kong
BEGIN:STANDARD
DTSTART:20071104T020000
TZOFFSETFROM:+0700
TZOFFSETTO:+0800
TZNAME:HKT
END:STANDARD
END:VTIMEZONE
BEGIN:VEVENT
DTSTAMP;TZID=Asia/Hong_Kong:20260426T010020
DTSTART;TZID=Asia/Hong_Kong:20170824T093000
DTEND;TZID=Asia/Hong_Kong:20170824T123000
LOCATION:Room 1505 (Lift 25 - 26), 1/F Academic Building, HKUST
SUMMARY:PhD in Chemistry - Copper- and Gold-Catalyzed Reactions of Functionalized Internal Alkynes and Synthesis of the C19–C30 Fragment of Iriomoteolide-13a
UID:25491
END:VEVENT
END:VCALENDAR