BEGIN:VCALENDAR
PRODID:-//HKUST Drupal Platform//EN
VERSION:2.0
BEGIN:VTIMEZONE
TZID:Asia/Hong_Kong
BEGIN:STANDARD
DTSTART:20071104T020000
TZOFFSETFROM:+0700
TZOFFSETTO:+0800
TZNAME:HKT
END:STANDARD
END:VTIMEZONE
BEGIN:VEVENT
DTSTAMP;TZID=Asia/Hong_Kong:20260425T224550
DTSTART;TZID=Asia/Hong_Kong:20170825T093000
DTEND;TZID=Asia/Hong_Kong:20170825T123000
LOCATION:Room 2504 (Lifts 25-26), 4/F Academic Building, HKUST
SUMMARY:PhD in Chemistry - Biochemical and Structural Characterization of Stable α-helical Oligomers of α-synuclein in the Presence of Oleic Acid
UID:25469
END:VEVENT
END:VCALENDAR