BEGIN:VCALENDAR
PRODID:-//HKUST Drupal Platform//EN
VERSION:2.0
BEGIN:VTIMEZONE
TZID:Asia/Hong_Kong
BEGIN:STANDARD
DTSTART:20071104T020000
TZOFFSETFROM:+0700
TZOFFSETTO:+0800
TZNAME:HKT
END:STANDARD
END:VTIMEZONE
BEGIN:VEVENT
DTSTAMP;TZID=Asia/Hong_Kong:20260426T010012
DTSTART;TZID=Asia/Hong_Kong:20170825T110000
DTEND;TZID=Asia/Hong_Kong:20170825T140000
LOCATION:Lecture Theater H (Lifts 27-28), 1/F Academic Building, HKUST
SUMMARY:MPhil in Electronic and Computer Engineering - VLSI Architectures for List Successive-Cancellation Decoding of Polar Codes
UID:25460
END:VEVENT
END:VCALENDAR