BEGIN:VCALENDAR
PRODID:-//HKUST Drupal Platform//EN
VERSION:2.0
BEGIN:VTIMEZONE
TZID:Asia/Hong_Kong
BEGIN:STANDARD
DTSTART:20071104T020000
TZOFFSETFROM:+0700
TZOFFSETTO:+0800
TZNAME:HKT
END:STANDARD
END:VTIMEZONE
BEGIN:VEVENT
DTSTAMP;TZID=Asia/Hong_Kong:20260425T224553
DTSTART;TZID=Asia/Hong_Kong:20170828T143000
DTEND;TZID=Asia/Hong_Kong:20170828T153000
LOCATION:Room 4475 (Lifts 25-26), 4/F Academic Building, HKUST
SUMMARY:MPhil in Physics - Temporal Integration and Predictive Information in Continuous Attractor Neural Networks
UID:25440
END:VEVENT
END:VCALENDAR