BEGIN:VCALENDAR
PRODID:-//HKUST Drupal Platform//EN
VERSION:2.0
BEGIN:VTIMEZONE
TZID:Asia/Hong_Kong
BEGIN:STANDARD
DTSTART:20071104T020000
TZOFFSETFROM:+0700
TZOFFSETTO:+0800
TZNAME:HKT
END:STANDARD
END:VTIMEZONE
BEGIN:VEVENT
DTSTAMP;TZID=Asia/Hong_Kong:20260420T152256
DTSTART;TZID=Asia/Hong_Kong:20170915T143000
DTEND;TZID=Asia/Hong_Kong:20170915T160000
LOCATION:Tsang Shiu Tim Art Hall (G017), Academic Complex, HKUST
SUMMARY:Intellectual Property Seminar Series - Eureka!! I Have a New Invention. Now What?
UID:25380
END:VEVENT
END:VCALENDAR