BEGIN:VCALENDAR
PRODID:-//HKUST Drupal Platform//EN
VERSION:2.0
BEGIN:VTIMEZONE
TZID:Asia/Hong_Kong
BEGIN:STANDARD
DTSTART:20071104T020000
TZOFFSETFROM:+0700
TZOFFSETTO:+0800
TZNAME:HKT
END:STANDARD
END:VTIMEZONE
BEGIN:VEVENT
DTSTAMP;TZID=Asia/Hong_Kong:20260425T224549
DTSTART;TZID=Asia/Hong_Kong:20170920T163000
DTEND;TZID=Asia/Hong_Kong:20170920T183000
LOCATION:room 5566 (lifts 27/28)
SUMMARY:MPhil in Computer Science and Engineering - Towards Real-time and Spacial-Aware Discovering of Vehicles via  Acoustic Sensing
UID:25359
END:VEVENT
END:VCALENDAR