BEGIN:VCALENDAR
PRODID:-//HKUST Drupal Platform//EN
VERSION:2.0
BEGIN:VTIMEZONE
TZID:Asia/Hong_Kong
BEGIN:STANDARD
DTSTART:20071104T020000
TZOFFSETFROM:+0700
TZOFFSETTO:+0800
TZNAME:HKT
END:STANDARD
END:VTIMEZONE
BEGIN:VEVENT
DTSTAMP;TZID=Asia/Hong_Kong:20260420T152254
DTSTART;TZID=Asia/Hong_Kong:20171011T150000
DTEND;TZID=Asia/Hong_Kong:20171011T163000
LOCATION:Room 1403, SCI/HOME (Lifts 25-26)
SUMMARY:Intellectual Property Seminar Series - Smart Tips and Insights - U.S. Patent Prosecution Practice
UID:25305
END:VEVENT
END:VCALENDAR