BEGIN:VCALENDAR
PRODID:-//HKUST Drupal Platform//EN
VERSION:2.0
BEGIN:VTIMEZONE
TZID:Asia/Hong_Kong
BEGIN:STANDARD
DTSTART:20071104T020000
TZOFFSETFROM:+0700
TZOFFSETTO:+0800
TZNAME:HKT
END:STANDARD
END:VTIMEZONE
BEGIN:VEVENT
DTSTAMP;TZID=Asia/Hong_Kong:20260425T224555
DTSTART;TZID=Asia/Hong_Kong:20171012T143000
DTEND;TZID=Asia/Hong_Kong:20171012T173000
LOCATION:Room 5619 (Lifts 31-32), 3/F Academic Building, HKUST
SUMMARY:PhD in Mechanical Engineering - High Performance Iron-chromium Redox Flow Batteries for Large-scale Energy Storage
UID:25301
END:VEVENT
END:VCALENDAR