BEGIN:VCALENDAR
PRODID:-//HKUST Drupal Platform//EN
VERSION:2.0
BEGIN:VTIMEZONE
TZID:Asia/Hong_Kong
BEGIN:STANDARD
DTSTART:20071104T020000
TZOFFSETFROM:+0700
TZOFFSETTO:+0800
TZNAME:HKT
END:STANDARD
END:VTIMEZONE
BEGIN:VEVENT
DTSTAMP;TZID=Asia/Hong_Kong:20260420T152310
DTSTART;TZID=Asia/Hong_Kong:20171031T190000
DTEND;TZID=Asia/Hong_Kong:20171031T203000
LOCATION:第十二屆《國粹香江校園行》- 「蒙古族長調與呼麥」藝術講座及示範表演
SUMMARY:第十二屆《國粹香江校園行》- 「蒙古族長調與呼麥」藝術講座及示範表演 Mongolian Throat Singing: Talk and Demonstration
UID:25254
END:VEVENT
END:VCALENDAR