BEGIN:VCALENDAR
PRODID:-//HKUST Drupal Platform//EN
VERSION:2.0
BEGIN:VTIMEZONE
TZID:Asia/Hong_Kong
BEGIN:STANDARD
DTSTART:20071104T020000
TZOFFSETFROM:+0700
TZOFFSETTO:+0800
TZNAME:HKT
END:STANDARD
END:VTIMEZONE
BEGIN:VEVENT
DTSTAMP;TZID=Asia/Hong_Kong:20260420T152300
DTSTART;TZID=Asia/Hong_Kong:20171118T110000
DTEND;TZID=Asia/Hong_Kong:20171118T123000
LOCATION:Chantal Miller Gallery, Asia Society Hong Kong Center, Admiralty
SUMMARY:Visit to Asia Society Hong Kong Center (Heritage Site and the Ink Art of Fang Zhaoling Exhibition)
UID:25187
END:VEVENT
END:VCALENDAR