BEGIN:VCALENDAR
PRODID:-//HKUST Drupal Platform//EN
VERSION:2.0
BEGIN:VTIMEZONE
TZID:Asia/Hong_Kong
BEGIN:STANDARD
DTSTART:20071104T020000
TZOFFSETFROM:+0700
TZOFFSETTO:+0800
TZNAME:HKT
END:STANDARD
END:VTIMEZONE
BEGIN:VEVENT
DTSTAMP;TZID=Asia/Hong_Kong:20260425T224549
DTSTART;TZID=Asia/Hong_Kong:20171205T140000
DTEND;TZID=Asia/Hong_Kong:20171205T170000
LOCATION:Room 1511 (Lifts 27-28), 1/F Academic Building, HKUST
SUMMARY:PhD in Mechanical Engineering - Fabrications and Characterizations of High-Performance Electrodes for Vanadium Redox Flow Batteries
UID:25114
END:VEVENT
END:VCALENDAR