BEGIN:VCALENDAR
PRODID:-//HKUST Drupal Platform//EN
VERSION:2.0
BEGIN:VTIMEZONE
TZID:Asia/Hong_Kong
BEGIN:STANDARD
DTSTART:20071104T020000
TZOFFSETFROM:+0700
TZOFFSETTO:+0800
TZNAME:HKT
END:STANDARD
END:VTIMEZONE
BEGIN:VEVENT
DTSTAMP;TZID=Asia/Hong_Kong:20260425T224602
DTSTART;TZID=Asia/Hong_Kong:20171207T100000
DTEND;TZID=Asia/Hong_Kong:20171207T130000
LOCATION:Rm 3574 (Lifts 27-28), 3/F Academic Building, HKUST
SUMMARY:PhD in Environmental Engineering - Controlling of Halogenated Aromatic Disinfection Byproducts During Drinking Water Chlorination
UID:25105
END:VEVENT
END:VCALENDAR