BEGIN:VCALENDAR
PRODID:-//HKUST Drupal Platform//EN
VERSION:2.0
BEGIN:VTIMEZONE
TZID:Asia/Hong_Kong
BEGIN:STANDARD
DTSTART:20071104T020000
TZOFFSETFROM:+0700
TZOFFSETTO:+0800
TZNAME:HKT
END:STANDARD
END:VTIMEZONE
BEGIN:VEVENT
DTSTAMP;TZID=Asia/Hong_Kong:20260426T103342
DTSTART;TZID=Asia/Hong_Kong:20180112T100000
DTEND;TZID=Asia/Hong_Kong:20180112T130000
LOCATION:Room3574 (Lifts 27/28), 3/F Academic Building, HKUST
SUMMARY:PhD in Environmental Engineering - Optimization of Disinfection of Saline Sewage Effluents
UID:24973
END:VEVENT
END:VCALENDAR