BEGIN:VCALENDAR
PRODID:-//HKUST Drupal Platform//EN
VERSION:2.0
BEGIN:VTIMEZONE
TZID:Asia/Hong_Kong
BEGIN:STANDARD
DTSTART:20071104T020000
TZOFFSETFROM:+0700
TZOFFSETTO:+0800
TZNAME:HKT
END:STANDARD
END:VTIMEZONE
BEGIN:VEVENT
DTSTAMP;TZID=Asia/Hong_Kong:20260426T095404
DTSTART;TZID=Asia/Hong_Kong:20180115T143000
DTEND;TZID=Asia/Hong_Kong:20180115T173000
LOCATION:Room 4503 (Lifts 25-26), 4/F Academic Building, HKUST
SUMMARY:PhD in Life Science - Yu Ping Feng San, an Ancient Chinese Herbal Decoction, Reverses Cisplatin-induced Multi-drug Resistance in Lung Cancer Cells: Mechanistic Evaluation and Development of New Formula
UID:24967
END:VEVENT
END:VCALENDAR