BEGIN:VCALENDAR
PRODID:-//HKUST Drupal Platform//EN
VERSION:2.0
BEGIN:VTIMEZONE
TZID:Asia/Hong_Kong
BEGIN:STANDARD
DTSTART:20071104T020000
TZOFFSETFROM:+0700
TZOFFSETTO:+0800
TZNAME:HKT
END:STANDARD
END:VTIMEZONE
BEGIN:VEVENT
DTSTAMP;TZID=Asia/Hong_Kong:20260425T212609
DTSTART;TZID=Asia/Hong_Kong:20180117T140000
DTEND;TZID=Asia/Hong_Kong:20180117T170000
LOCATION:Room 4472 (Lifts 25-26), 4/F Academic Building, HKUST
SUMMARY:PhD in Physics - Electrical and Optical Characterizations of Atomically-Thin Layered Materials
UID:24958
END:VEVENT
END:VCALENDAR