BEGIN:VCALENDAR
PRODID:-//HKUST Drupal Platform//EN
VERSION:2.0
BEGIN:VTIMEZONE
TZID:Asia/Hong_Kong
BEGIN:STANDARD
DTSTART:20071104T020000
TZOFFSETFROM:+0700
TZOFFSETTO:+0800
TZNAME:HKT
END:STANDARD
END:VTIMEZONE
BEGIN:VEVENT
DTSTAMP;TZID=Asia/Hong_Kong:20260426T092254
DTSTART;TZID=Asia/Hong_Kong:20180118T150000
DTEND;TZID=Asia/Hong_Kong:20180118T180000
LOCATION:Room 2463 (Lifts 25-26), 2/F Academic Building, HKUST
SUMMARY:PhD in Atmospheric Envrl Science - Nitrated Polycyclic Aromatic Hydrocarbons in Food: Occurrence and Risk Assessment
UID:24950
END:VEVENT
END:VCALENDAR