BEGIN:VCALENDAR
PRODID:-//HKUST Drupal Platform//EN
VERSION:2.0
BEGIN:VTIMEZONE
TZID:Asia/Hong_Kong
BEGIN:STANDARD
DTSTART:20071104T020000
TZOFFSETFROM:+0700
TZOFFSETTO:+0800
TZNAME:HKT
END:STANDARD
END:VTIMEZONE
BEGIN:VEVENT
DTSTAMP;TZID=Asia/Hong_Kong:20260426T103342
DTSTART;TZID=Asia/Hong_Kong:20180122T140000
DTEND;TZID=Asia/Hong_Kong:20180122T150000
LOCATION:Room 4472 (Lifts 25-26) 4/F Academic Building
SUMMARY:PhD in Environmental Science, Policy and Management - Preparation,Characterization, and Property of Hierarchical Porous Metal-Organic-framework Aerogels and Aerogel-like Monoliths
UID:24941
END:VEVENT
END:VCALENDAR