BEGIN:VCALENDAR
PRODID:-//HKUST Drupal Platform//EN
VERSION:2.0
BEGIN:VTIMEZONE
TZID:Asia/Hong_Kong
BEGIN:STANDARD
DTSTART:20071104T020000
TZOFFSETFROM:+0700
TZOFFSETTO:+0800
TZNAME:HKT
END:STANDARD
END:VTIMEZONE
BEGIN:VEVENT
DTSTAMP;TZID=Asia/Hong_Kong:20260426T035632
DTSTART;TZID=Asia/Hong_Kong:20180309T100000
DTEND;TZID=Asia/Hong_Kong:20180309T110000
LOCATION:Room 4472 (Lifts 25-26) 4/F Academic Building
SUMMARY:MPhil in Environmental Science, Policy and Management - Street Canyon Modelling in the Urban Areas of Hong Kong
UID:24811
END:VEVENT
END:VCALENDAR