BEGIN:VCALENDAR
PRODID:-//HKUST Drupal Platform//EN
VERSION:2.0
BEGIN:VTIMEZONE
TZID:Asia/Hong_Kong
BEGIN:STANDARD
DTSTART:20071104T020000
TZOFFSETFROM:+0700
TZOFFSETTO:+0800
TZNAME:HKT
END:STANDARD
END:VTIMEZONE
BEGIN:VEVENT
DTSTAMP;TZID=Asia/Hong_Kong:20260425T212609
DTSTART;TZID=Asia/Hong_Kong:20180314T150000
DTEND;TZID=Asia/Hong_Kong:20180314T180000
LOCATION:Room 2408 (Lifts 17-18), 2/F Academic Building, HKUST
SUMMARY:PhD in Mechanical Engineering - Study of the Condensation Performance of Composite Coating on Copper Surfaces for Use in Solar-powered Adsorption Cooling Systems
UID:24797
END:VEVENT
END:VCALENDAR