BEGIN:VCALENDAR
PRODID:-//HKUST Drupal Platform//EN
VERSION:2.0
BEGIN:VTIMEZONE
TZID:Asia/Hong_Kong
BEGIN:STANDARD
DTSTART:20071104T020000
TZOFFSETFROM:+0700
TZOFFSETTO:+0800
TZNAME:HKT
END:STANDARD
END:VTIMEZONE
BEGIN:VEVENT
DTSTAMP;TZID=Asia/Hong_Kong:20260426T103340
DTSTART;TZID=Asia/Hong_Kong:20180328T150000
DTEND;TZID=Asia/Hong_Kong:20180328T180000
LOCATION:Room 5047 (Lift 1), 5/F Lee Shau Kee Business Building, HKUST
SUMMARY:PhD in Management - Two Essays on Innovations in an Emerging Market
UID:24750
END:VEVENT
END:VCALENDAR