BEGIN:VCALENDAR
PRODID:-//HKUST Drupal Platform//EN
VERSION:2.0
BEGIN:VTIMEZONE
TZID:Asia/Hong_Kong
BEGIN:STANDARD
DTSTART:20071104T020000
TZOFFSETFROM:+0700
TZOFFSETTO:+0800
TZNAME:HKT
END:STANDARD
END:VTIMEZONE
BEGIN:VEVENT
DTSTAMP;TZID=Asia/Hong_Kong:20260426T103340
DTSTART;TZID=Asia/Hong_Kong:20180419T140000
DTEND;TZID=Asia/Hong_Kong:20180419T170000
LOCATION:Lecture Theater H, 1/F Academic Concourse, HKUST
SUMMARY:PhD in Chem & Biomolecular Engg - Design of Nanoparticle-loaded Solar Control Interlayers and Synthesis of Relevant Functional Nanoparticles
UID:24707
END:VEVENT
END:VCALENDAR