BEGIN:VCALENDAR
PRODID:-//HKUST Drupal Platform//EN
VERSION:2.0
BEGIN:VTIMEZONE
TZID:Asia/Hong_Kong
BEGIN:STANDARD
DTSTART:20071104T020000
TZOFFSETFROM:+0700
TZOFFSETTO:+0800
TZNAME:HKT
END:STANDARD
END:VTIMEZONE
BEGIN:VEVENT
DTSTAMP;TZID=Asia/Hong_Kong:20260420T180833
DTSTART;TZID=Asia/Hong_Kong:20190315T180000
DTEND;TZID=Asia/Hong_Kong:20190315T210000
LOCATION:Tsang Shiu Tim Art Hall
SUMMARY:HKUST Arts Festival 2019 - Art & Crisis - Music Documentary 《L.O.V.E. in F.R.A.M.E.S.》 by Eason CHAN
UID:23462
END:VEVENT
END:VCALENDAR