BEGIN:VCALENDAR
PRODID:-//HKUST Drupal Platform//EN
VERSION:2.0
BEGIN:VTIMEZONE
TZID:Asia/Hong_Kong
BEGIN:STANDARD
DTSTART:20071104T020000
TZOFFSETFROM:+0700
TZOFFSETTO:+0800
TZNAME:HKT
END:STANDARD
END:VTIMEZONE
BEGIN:VEVENT
DTSTAMP;TZID=Asia/Hong_Kong:20260420T221222
DTSTART;TZID=Asia/Hong_Kong:20190316T110000
DTEND;TZID=Asia/Hong_Kong:20190316T120000
LOCATION:M+ Pavilion, West Kowloon Cultural District, Kowloon, Hong Kong
SUMMARY:HKUST Arts Festival 2019 - Art and Crisis - Visit to \"Noguchi for Danh Vo: Counterpoint\" Exhibition
UID:23461
END:VEVENT
END:VCALENDAR