BEGIN:VCALENDAR
PRODID:-//HKUST Drupal Platform//EN
VERSION:2.0
BEGIN:VTIMEZONE
TZID:Asia/Hong_Kong
BEGIN:STANDARD
DTSTART:20071104T020000
TZOFFSETFROM:+0700
TZOFFSETTO:+0800
TZNAME:HKT
END:STANDARD
END:VTIMEZONE
BEGIN:VEVENT
DTSTAMP;TZID=Asia/Hong_Kong:20260420T152213
DTSTART;TZID=Asia/Hong_Kong:20190409T193000
DTEND;TZID=Asia/Hong_Kong:20190409T211500
LOCATION:Tsang Shiu Tim Art Hall
SUMMARY:HKUST Arts Festival 2019 - Spring Concert by University Philharmonic Orchestra, HKUSTSU: \"Beyond the Crisis\"
UID:23384
END:VEVENT
END:VCALENDAR