BEGIN:VCALENDAR
PRODID:-//HKUST Drupal Platform//EN
VERSION:2.0
BEGIN:VTIMEZONE
TZID:Asia/Hong_Kong
BEGIN:STANDARD
DTSTART:20071104T020000
TZOFFSETFROM:+0700
TZOFFSETTO:+0800
TZNAME:HKT
END:STANDARD
END:VTIMEZONE
BEGIN:VEVENT
DTSTAMP;TZID=Asia/Hong_Kong:20260420T151930
DTSTART;TZID=Asia/Hong_Kong:20190411T163000
DTEND;TZID=Asia/Hong_Kong:20190411T180000
LOCATION:香港科技大学 李兆基校园 卢家骢荟萃楼 高研院演讲厅
SUMMARY:中国文学创作研究专题 - 超现实语境中的非虚构写作
UID:23377
END:VEVENT
END:VCALENDAR