BEGIN:VCALENDAR
PRODID:-//HKUST Drupal Platform//EN
VERSION:2.0
BEGIN:VTIMEZONE
TZID:Asia/Hong_Kong
BEGIN:STANDARD
DTSTART:20071104T020000
TZOFFSETFROM:+0700
TZOFFSETTO:+0800
TZNAME:HKT
END:STANDARD
END:VTIMEZONE
BEGIN:VEVENT
DTSTAMP;TZID=Asia/Hong_Kong:20260420T152213
DTSTART;TZID=Asia/Hong_Kong:20190413T140000
DTEND;TZID=Asia/Hong_Kong:20190413T160000
LOCATION:K11 Atelier, Tsim Sha Tsui
SUMMARY:HKUST Arts Festival 2019 - Visit to ERCO Lighting Exhibition
UID:23366
END:VEVENT
END:VCALENDAR