BEGIN:VCALENDAR
PRODID:-//HKUST Drupal Platform//EN
VERSION:2.0
BEGIN:VTIMEZONE
TZID:Asia/Hong_Kong
BEGIN:STANDARD
DTSTART:20071104T020000
TZOFFSETFROM:+0700
TZOFFSETTO:+0800
TZNAME:HKT
END:STANDARD
END:VTIMEZONE
BEGIN:VEVENT
DTSTAMP;TZID=Asia/Hong_Kong:20260420T222027
DTSTART;TZID=Asia/Hong_Kong:20190606T100000
DTEND;TZID=Asia/Hong_Kong:20190606T110000
LOCATION:Room 2504, 2/F (Lifts 25/26), Academic Building, HKUST
SUMMARY:CHEM Seminar - Examination of Material Photo Absorption, Scattering, and Emission under New Lights
UID:23183
END:VEVENT
END:VCALENDAR