BEGIN:VCALENDAR
PRODID:-//HKUST Drupal Platform//EN
VERSION:2.0
BEGIN:VTIMEZONE
TZID:Asia/Hong_Kong
BEGIN:STANDARD
DTSTART:20071104T020000
TZOFFSETFROM:+0700
TZOFFSETTO:+0800
TZNAME:HKT
END:STANDARD
END:VTIMEZONE
BEGIN:VEVENT
DTSTAMP;TZID=Asia/Hong_Kong:20260420T152211
DTSTART;TZID=Asia/Hong_Kong:20190606T193000
DTEND;TZID=Asia/Hong_Kong:20190606T210000
LOCATION:Tsang Shiu Tim Art Hall
SUMMARY:Viennese Legacy Chamber Music Concert Series - Concert VIII by Kitty Cheung & Evelyn Chang
UID:23178
END:VEVENT
END:VCALENDAR