BEGIN:VCALENDAR
PRODID:-//HKUST Drupal Platform//EN
VERSION:2.0
BEGIN:VTIMEZONE
TZID:Asia/Hong_Kong
BEGIN:STANDARD
DTSTART:20071104T020000
TZOFFSETFROM:+0700
TZOFFSETTO:+0800
TZNAME:HKT
END:STANDARD
END:VTIMEZONE
BEGIN:VEVENT
DTSTAMP;TZID=Asia/Hong_Kong:20260420T152215
DTSTART;TZID=Asia/Hong_Kong:20190807T193000
DTEND;TZID=Asia/Hong_Kong:20190807T210000
LOCATION:Tsang Shiu Tim Art Hall, HKUST
SUMMARY:Summer Concert: \"Classical and Pops!\" by HKUSTSU University Philharmonic Orchestra and Alethia Ensemble
UID:23055
END:VEVENT
END:VCALENDAR