BEGIN:VCALENDAR
PRODID:-//HKUST Drupal Platform//EN
VERSION:2.0
BEGIN:VTIMEZONE
TZID:Asia/Hong_Kong
BEGIN:STANDARD
DTSTART:20071104T020000
TZOFFSETFROM:+0700
TZOFFSETTO:+0800
TZNAME:HKT
END:STANDARD
END:VTIMEZONE
BEGIN:VEVENT
DTSTAMP;TZID=Asia/Hong_Kong:20260420T152210
DTSTART;TZID=Asia/Hong_Kong:20190926T193000
DTEND;TZID=Asia/Hong_Kong:20190926T204500
LOCATION:Tsang Shiu Tim Art Hall
SUMMARY:竹韻小集「絲路縱橫」巡迴音樂會：音樂劇場「條條大路通羅馬」Windpipe Chinese Music Ensemble “Along the Silk Road” Touring Concert: Music Theatre “All Roads Lead to Rome”
UID:22986
END:VEVENT
END:VCALENDAR