BEGIN:VCALENDAR
PRODID:-//HKUST Drupal Platform//EN
VERSION:2.0
BEGIN:VTIMEZONE
TZID:Asia/Hong_Kong
BEGIN:STANDARD
DTSTART:20071104T020000
TZOFFSETFROM:+0700
TZOFFSETTO:+0800
TZNAME:HKT
END:STANDARD
END:VTIMEZONE
BEGIN:VEVENT
DTSTAMP;TZID=Asia/Hong_Kong:20260420T221222
DTSTART;TZID=Asia/Hong_Kong:20190724T124500
DTEND;TZID=Asia/Hong_Kong:20190724T141500
LOCATION:Room 4582, Academic Building,  (near Lifts 27-28)
SUMMARY:SEC Workshop for Sustainability Case Development
UID:22906
END:VEVENT
END:VCALENDAR