BEGIN:VCALENDAR
PRODID:-//HKUST Drupal Platform//EN
VERSION:2.0
BEGIN:VTIMEZONE
TZID:Asia/Hong_Kong
BEGIN:STANDARD
DTSTART:20071104T020000
TZOFFSETFROM:+0700
TZOFFSETTO:+0800
TZNAME:HKT
END:STANDARD
END:VTIMEZONE
BEGIN:VEVENT
DTSTAMP;TZID=Asia/Hong_Kong:20260420T142912
DTSTART;TZID=Asia/Hong_Kong:20190821T100000
DTEND;TZID=Asia/Hong_Kong:20190821T130000
LOCATION:Room 3574 (Lifts 27 & 28), HKUST
SUMMARY:MPhil in Civil Engineering - A Novel Sulfidogeniesis Anammox (SMOX) Provess for Treating Chemically Enhanced Primary Treatment Effluent
UID:22591
END:VEVENT
END:VCALENDAR