BEGIN:VCALENDAR
PRODID:-//HKUST Drupal Platform//EN
VERSION:2.0
BEGIN:VTIMEZONE
TZID:Asia/Hong_Kong
BEGIN:STANDARD
DTSTART:20071104T020000
TZOFFSETFROM:+0700
TZOFFSETTO:+0800
TZNAME:HKT
END:STANDARD
END:VTIMEZONE
BEGIN:VEVENT
DTSTAMP;TZID=Asia/Hong_Kong:20260420T152253
DTSTART;TZID=Asia/Hong_Kong:20190912T163000
DTEND;TZID=Asia/Hong_Kong:20190912T183000
LOCATION:鄭裕彤樓G009A、B室（9月12、 19日、10月3、17、24、31日、11月14日 - 星期四）及運動室 LG1027 （11月18日 - 星期一）
SUMMARY:粵劇教育拓展項目2019 - 跟名伶學粵劇工作坊 - 第三班（逢星期四　下午 4:30 - 6:30）
UID:22514
END:VEVENT
BEGIN:VEVENT
DTSTAMP;TZID=Asia/Hong_Kong:20260420T152253
DTSTART;TZID=Asia/Hong_Kong:20190913T163000
DTEND;TZID=Asia/Hong_Kong:20190913T183000
LOCATION:鄭裕彤樓G009A、B室（9月12、 19日、10月3、17、24、31日、11月14日 - 星期四）及運動室 LG1027 （11月18日 - 星期一）
SUMMARY:粵劇教育拓展項目2019 - 跟名伶學粵劇工作坊 - 第三班（逢星期四　下午 4:30 - 6:30）
UID:22514
END:VEVENT
BEGIN:VEVENT
DTSTAMP;TZID=Asia/Hong_Kong:20260420T152253
DTSTART;TZID=Asia/Hong_Kong:20190914T163000
DTEND;TZID=Asia/Hong_Kong:20190914T183000
LOCATION:鄭裕彤樓G009A、B室（9月12、 19日、10月3、17、24、31日、11月14日 - 星期四）及運動室 LG1027 （11月18日 - 星期一）
SUMMARY:粵劇教育拓展項目2019 - 跟名伶學粵劇工作坊 - 第三班（逢星期四　下午 4:30 - 6:30）
UID:22514
END:VEVENT
BEGIN:VEVENT
DTSTAMP;TZID=Asia/Hong_Kong:20260420T152253
DTSTART;TZID=Asia/Hong_Kong:20190915T163000
DTEND;TZID=Asia/Hong_Kong:20190915T183000
LOCATION:鄭裕彤樓G009A、B室（9月12、 19日、10月3、17、24、31日、11月14日 - 星期四）及運動室 LG1027 （11月18日 - 星期一）
SUMMARY:粵劇教育拓展項目2019 - 跟名伶學粵劇工作坊 - 第三班（逢星期四　下午 4:30 - 6:30）
UID:22514
END:VEVENT
BEGIN:VEVENT
DTSTAMP;TZID=Asia/Hong_Kong:20260420T152253
DTSTART;TZID=Asia/Hong_Kong:20190916T163000
DTEND;TZID=Asia/Hong_Kong:20190916T183000
LOCATION:鄭裕彤樓G009A、B室（9月12、 19日、10月3、17、24、31日、11月14日 - 星期四）及運動室 LG1027 （11月18日 - 星期一）
SUMMARY:粵劇教育拓展項目2019 - 跟名伶學粵劇工作坊 - 第三班（逢星期四　下午 4:30 - 6:30）
UID:22514
END:VEVENT
BEGIN:VEVENT
DTSTAMP;TZID=Asia/Hong_Kong:20260420T152253
DTSTART;TZID=Asia/Hong_Kong:20190917T163000
DTEND;TZID=Asia/Hong_Kong:20190917T183000
LOCATION:鄭裕彤樓G009A、B室（9月12、 19日、10月3、17、24、31日、11月14日 - 星期四）及運動室 LG1027 （11月18日 - 星期一）
SUMMARY:粵劇教育拓展項目2019 - 跟名伶學粵劇工作坊 - 第三班（逢星期四　下午 4:30 - 6:30）
UID:22514
END:VEVENT
BEGIN:VEVENT
DTSTAMP;TZID=Asia/Hong_Kong:20260420T152253
DTSTART;TZID=Asia/Hong_Kong:20190918T163000
DTEND;TZID=Asia/Hong_Kong:20190918T183000
LOCATION:鄭裕彤樓G009A、B室（9月12、 19日、10月3、17、24、31日、11月14日 - 星期四）及運動室 LG1027 （11月18日 - 星期一）
SUMMARY:粵劇教育拓展項目2019 - 跟名伶學粵劇工作坊 - 第三班（逢星期四　下午 4:30 - 6:30）
UID:22514
END:VEVENT
BEGIN:VEVENT
DTSTAMP;TZID=Asia/Hong_Kong:20260420T152253
DTSTART;TZID=Asia/Hong_Kong:20190919T163000
DTEND;TZID=Asia/Hong_Kong:20190919T183000
LOCATION:鄭裕彤樓G009A、B室（9月12、 19日、10月3、17、24、31日、11月14日 - 星期四）及運動室 LG1027 （11月18日 - 星期一）
SUMMARY:粵劇教育拓展項目2019 - 跟名伶學粵劇工作坊 - 第三班（逢星期四　下午 4:30 - 6:30）
UID:22514
END:VEVENT
BEGIN:VEVENT
DTSTAMP;TZID=Asia/Hong_Kong:20260420T152253
DTSTART;TZID=Asia/Hong_Kong:20190920T163000
DTEND;TZID=Asia/Hong_Kong:20190920T183000
LOCATION:鄭裕彤樓G009A、B室（9月12、 19日、10月3、17、24、31日、11月14日 - 星期四）及運動室 LG1027 （11月18日 - 星期一）
SUMMARY:粵劇教育拓展項目2019 - 跟名伶學粵劇工作坊 - 第三班（逢星期四　下午 4:30 - 6:30）
UID:22514
END:VEVENT
BEGIN:VEVENT
DTSTAMP;TZID=Asia/Hong_Kong:20260420T152253
DTSTART;TZID=Asia/Hong_Kong:20190921T163000
DTEND;TZID=Asia/Hong_Kong:20190921T183000
LOCATION:鄭裕彤樓G009A、B室（9月12、 19日、10月3、17、24、31日、11月14日 - 星期四）及運動室 LG1027 （11月18日 - 星期一）
SUMMARY:粵劇教育拓展項目2019 - 跟名伶學粵劇工作坊 - 第三班（逢星期四　下午 4:30 - 6:30）
UID:22514
END:VEVENT
BEGIN:VEVENT
DTSTAMP;TZID=Asia/Hong_Kong:20260420T152253
DTSTART;TZID=Asia/Hong_Kong:20190922T163000
DTEND;TZID=Asia/Hong_Kong:20190922T183000
LOCATION:鄭裕彤樓G009A、B室（9月12、 19日、10月3、17、24、31日、11月14日 - 星期四）及運動室 LG1027 （11月18日 - 星期一）
SUMMARY:粵劇教育拓展項目2019 - 跟名伶學粵劇工作坊 - 第三班（逢星期四　下午 4:30 - 6:30）
UID:22514
END:VEVENT
BEGIN:VEVENT
DTSTAMP;TZID=Asia/Hong_Kong:20260420T152253
DTSTART;TZID=Asia/Hong_Kong:20190923T163000
DTEND;TZID=Asia/Hong_Kong:20190923T183000
LOCATION:鄭裕彤樓G009A、B室（9月12、 19日、10月3、17、24、31日、11月14日 - 星期四）及運動室 LG1027 （11月18日 - 星期一）
SUMMARY:粵劇教育拓展項目2019 - 跟名伶學粵劇工作坊 - 第三班（逢星期四　下午 4:30 - 6:30）
UID:22514
END:VEVENT
BEGIN:VEVENT
DTSTAMP;TZID=Asia/Hong_Kong:20260420T152253
DTSTART;TZID=Asia/Hong_Kong:20190924T163000
DTEND;TZID=Asia/Hong_Kong:20190924T183000
LOCATION:鄭裕彤樓G009A、B室（9月12、 19日、10月3、17、24、31日、11月14日 - 星期四）及運動室 LG1027 （11月18日 - 星期一）
SUMMARY:粵劇教育拓展項目2019 - 跟名伶學粵劇工作坊 - 第三班（逢星期四　下午 4:30 - 6:30）
UID:22514
END:VEVENT
BEGIN:VEVENT
DTSTAMP;TZID=Asia/Hong_Kong:20260420T152253
DTSTART;TZID=Asia/Hong_Kong:20190925T163000
DTEND;TZID=Asia/Hong_Kong:20190925T183000
LOCATION:鄭裕彤樓G009A、B室（9月12、 19日、10月3、17、24、31日、11月14日 - 星期四）及運動室 LG1027 （11月18日 - 星期一）
SUMMARY:粵劇教育拓展項目2019 - 跟名伶學粵劇工作坊 - 第三班（逢星期四　下午 4:30 - 6:30）
UID:22514
END:VEVENT
BEGIN:VEVENT
DTSTAMP;TZID=Asia/Hong_Kong:20260420T152253
DTSTART;TZID=Asia/Hong_Kong:20190926T163000
DTEND;TZID=Asia/Hong_Kong:20190926T183000
LOCATION:鄭裕彤樓G009A、B室（9月12、 19日、10月3、17、24、31日、11月14日 - 星期四）及運動室 LG1027 （11月18日 - 星期一）
SUMMARY:粵劇教育拓展項目2019 - 跟名伶學粵劇工作坊 - 第三班（逢星期四　下午 4:30 - 6:30）
UID:22514
END:VEVENT
BEGIN:VEVENT
DTSTAMP;TZID=Asia/Hong_Kong:20260420T152253
DTSTART;TZID=Asia/Hong_Kong:20190927T163000
DTEND;TZID=Asia/Hong_Kong:20190927T183000
LOCATION:鄭裕彤樓G009A、B室（9月12、 19日、10月3、17、24、31日、11月14日 - 星期四）及運動室 LG1027 （11月18日 - 星期一）
SUMMARY:粵劇教育拓展項目2019 - 跟名伶學粵劇工作坊 - 第三班（逢星期四　下午 4:30 - 6:30）
UID:22514
END:VEVENT
BEGIN:VEVENT
DTSTAMP;TZID=Asia/Hong_Kong:20260420T152253
DTSTART;TZID=Asia/Hong_Kong:20190928T163000
DTEND;TZID=Asia/Hong_Kong:20190928T183000
LOCATION:鄭裕彤樓G009A、B室（9月12、 19日、10月3、17、24、31日、11月14日 - 星期四）及運動室 LG1027 （11月18日 - 星期一）
SUMMARY:粵劇教育拓展項目2019 - 跟名伶學粵劇工作坊 - 第三班（逢星期四　下午 4:30 - 6:30）
UID:22514
END:VEVENT
BEGIN:VEVENT
DTSTAMP;TZID=Asia/Hong_Kong:20260420T152253
DTSTART;TZID=Asia/Hong_Kong:20190929T163000
DTEND;TZID=Asia/Hong_Kong:20190929T183000
LOCATION:鄭裕彤樓G009A、B室（9月12、 19日、10月3、17、24、31日、11月14日 - 星期四）及運動室 LG1027 （11月18日 - 星期一）
SUMMARY:粵劇教育拓展項目2019 - 跟名伶學粵劇工作坊 - 第三班（逢星期四　下午 4:30 - 6:30）
UID:22514
END:VEVENT
BEGIN:VEVENT
DTSTAMP;TZID=Asia/Hong_Kong:20260420T152253
DTSTART;TZID=Asia/Hong_Kong:20190930T163000
DTEND;TZID=Asia/Hong_Kong:20190930T183000
LOCATION:鄭裕彤樓G009A、B室（9月12、 19日、10月3、17、24、31日、11月14日 - 星期四）及運動室 LG1027 （11月18日 - 星期一）
SUMMARY:粵劇教育拓展項目2019 - 跟名伶學粵劇工作坊 - 第三班（逢星期四　下午 4:30 - 6:30）
UID:22514
END:VEVENT
BEGIN:VEVENT
DTSTAMP;TZID=Asia/Hong_Kong:20260420T152253
DTSTART;TZID=Asia/Hong_Kong:20191001T163000
DTEND;TZID=Asia/Hong_Kong:20191001T183000
LOCATION:鄭裕彤樓G009A、B室（9月12、 19日、10月3、17、24、31日、11月14日 - 星期四）及運動室 LG1027 （11月18日 - 星期一）
SUMMARY:粵劇教育拓展項目2019 - 跟名伶學粵劇工作坊 - 第三班（逢星期四　下午 4:30 - 6:30）
UID:22514
END:VEVENT
BEGIN:VEVENT
DTSTAMP;TZID=Asia/Hong_Kong:20260420T152253
DTSTART;TZID=Asia/Hong_Kong:20191002T163000
DTEND;TZID=Asia/Hong_Kong:20191002T183000
LOCATION:鄭裕彤樓G009A、B室（9月12、 19日、10月3、17、24、31日、11月14日 - 星期四）及運動室 LG1027 （11月18日 - 星期一）
SUMMARY:粵劇教育拓展項目2019 - 跟名伶學粵劇工作坊 - 第三班（逢星期四　下午 4:30 - 6:30）
UID:22514
END:VEVENT
BEGIN:VEVENT
DTSTAMP;TZID=Asia/Hong_Kong:20260420T152253
DTSTART;TZID=Asia/Hong_Kong:20191003T163000
DTEND;TZID=Asia/Hong_Kong:20191003T183000
LOCATION:鄭裕彤樓G009A、B室（9月12、 19日、10月3、17、24、31日、11月14日 - 星期四）及運動室 LG1027 （11月18日 - 星期一）
SUMMARY:粵劇教育拓展項目2019 - 跟名伶學粵劇工作坊 - 第三班（逢星期四　下午 4:30 - 6:30）
UID:22514
END:VEVENT
BEGIN:VEVENT
DTSTAMP;TZID=Asia/Hong_Kong:20260420T152253
DTSTART;TZID=Asia/Hong_Kong:20191004T163000
DTEND;TZID=Asia/Hong_Kong:20191004T183000
LOCATION:鄭裕彤樓G009A、B室（9月12、 19日、10月3、17、24、31日、11月14日 - 星期四）及運動室 LG1027 （11月18日 - 星期一）
SUMMARY:粵劇教育拓展項目2019 - 跟名伶學粵劇工作坊 - 第三班（逢星期四　下午 4:30 - 6:30）
UID:22514
END:VEVENT
BEGIN:VEVENT
DTSTAMP;TZID=Asia/Hong_Kong:20260420T152253
DTSTART;TZID=Asia/Hong_Kong:20191005T163000
DTEND;TZID=Asia/Hong_Kong:20191005T183000
LOCATION:鄭裕彤樓G009A、B室（9月12、 19日、10月3、17、24、31日、11月14日 - 星期四）及運動室 LG1027 （11月18日 - 星期一）
SUMMARY:粵劇教育拓展項目2019 - 跟名伶學粵劇工作坊 - 第三班（逢星期四　下午 4:30 - 6:30）
UID:22514
END:VEVENT
BEGIN:VEVENT
DTSTAMP;TZID=Asia/Hong_Kong:20260420T152253
DTSTART;TZID=Asia/Hong_Kong:20191006T163000
DTEND;TZID=Asia/Hong_Kong:20191006T183000
LOCATION:鄭裕彤樓G009A、B室（9月12、 19日、10月3、17、24、31日、11月14日 - 星期四）及運動室 LG1027 （11月18日 - 星期一）
SUMMARY:粵劇教育拓展項目2019 - 跟名伶學粵劇工作坊 - 第三班（逢星期四　下午 4:30 - 6:30）
UID:22514
END:VEVENT
BEGIN:VEVENT
DTSTAMP;TZID=Asia/Hong_Kong:20260420T152253
DTSTART;TZID=Asia/Hong_Kong:20191007T163000
DTEND;TZID=Asia/Hong_Kong:20191007T183000
LOCATION:鄭裕彤樓G009A、B室（9月12、 19日、10月3、17、24、31日、11月14日 - 星期四）及運動室 LG1027 （11月18日 - 星期一）
SUMMARY:粵劇教育拓展項目2019 - 跟名伶學粵劇工作坊 - 第三班（逢星期四　下午 4:30 - 6:30）
UID:22514
END:VEVENT
BEGIN:VEVENT
DTSTAMP;TZID=Asia/Hong_Kong:20260420T152253
DTSTART;TZID=Asia/Hong_Kong:20191008T163000
DTEND;TZID=Asia/Hong_Kong:20191008T183000
LOCATION:鄭裕彤樓G009A、B室（9月12、 19日、10月3、17、24、31日、11月14日 - 星期四）及運動室 LG1027 （11月18日 - 星期一）
SUMMARY:粵劇教育拓展項目2019 - 跟名伶學粵劇工作坊 - 第三班（逢星期四　下午 4:30 - 6:30）
UID:22514
END:VEVENT
BEGIN:VEVENT
DTSTAMP;TZID=Asia/Hong_Kong:20260420T152253
DTSTART;TZID=Asia/Hong_Kong:20191009T163000
DTEND;TZID=Asia/Hong_Kong:20191009T183000
LOCATION:鄭裕彤樓G009A、B室（9月12、 19日、10月3、17、24、31日、11月14日 - 星期四）及運動室 LG1027 （11月18日 - 星期一）
SUMMARY:粵劇教育拓展項目2019 - 跟名伶學粵劇工作坊 - 第三班（逢星期四　下午 4:30 - 6:30）
UID:22514
END:VEVENT
BEGIN:VEVENT
DTSTAMP;TZID=Asia/Hong_Kong:20260420T152253
DTSTART;TZID=Asia/Hong_Kong:20191010T163000
DTEND;TZID=Asia/Hong_Kong:20191010T183000
LOCATION:鄭裕彤樓G009A、B室（9月12、 19日、10月3、17、24、31日、11月14日 - 星期四）及運動室 LG1027 （11月18日 - 星期一）
SUMMARY:粵劇教育拓展項目2019 - 跟名伶學粵劇工作坊 - 第三班（逢星期四　下午 4:30 - 6:30）
UID:22514
END:VEVENT
BEGIN:VEVENT
DTSTAMP;TZID=Asia/Hong_Kong:20260420T152253
DTSTART;TZID=Asia/Hong_Kong:20191011T163000
DTEND;TZID=Asia/Hong_Kong:20191011T183000
LOCATION:鄭裕彤樓G009A、B室（9月12、 19日、10月3、17、24、31日、11月14日 - 星期四）及運動室 LG1027 （11月18日 - 星期一）
SUMMARY:粵劇教育拓展項目2019 - 跟名伶學粵劇工作坊 - 第三班（逢星期四　下午 4:30 - 6:30）
UID:22514
END:VEVENT
BEGIN:VEVENT
DTSTAMP;TZID=Asia/Hong_Kong:20260420T152253
DTSTART;TZID=Asia/Hong_Kong:20191012T163000
DTEND;TZID=Asia/Hong_Kong:20191012T183000
LOCATION:鄭裕彤樓G009A、B室（9月12、 19日、10月3、17、24、31日、11月14日 - 星期四）及運動室 LG1027 （11月18日 - 星期一）
SUMMARY:粵劇教育拓展項目2019 - 跟名伶學粵劇工作坊 - 第三班（逢星期四　下午 4:30 - 6:30）
UID:22514
END:VEVENT
BEGIN:VEVENT
DTSTAMP;TZID=Asia/Hong_Kong:20260420T152253
DTSTART;TZID=Asia/Hong_Kong:20191013T163000
DTEND;TZID=Asia/Hong_Kong:20191013T183000
LOCATION:鄭裕彤樓G009A、B室（9月12、 19日、10月3、17、24、31日、11月14日 - 星期四）及運動室 LG1027 （11月18日 - 星期一）
SUMMARY:粵劇教育拓展項目2019 - 跟名伶學粵劇工作坊 - 第三班（逢星期四　下午 4:30 - 6:30）
UID:22514
END:VEVENT
BEGIN:VEVENT
DTSTAMP;TZID=Asia/Hong_Kong:20260420T152253
DTSTART;TZID=Asia/Hong_Kong:20191014T163000
DTEND;TZID=Asia/Hong_Kong:20191014T183000
LOCATION:鄭裕彤樓G009A、B室（9月12、 19日、10月3、17、24、31日、11月14日 - 星期四）及運動室 LG1027 （11月18日 - 星期一）
SUMMARY:粵劇教育拓展項目2019 - 跟名伶學粵劇工作坊 - 第三班（逢星期四　下午 4:30 - 6:30）
UID:22514
END:VEVENT
BEGIN:VEVENT
DTSTAMP;TZID=Asia/Hong_Kong:20260420T152253
DTSTART;TZID=Asia/Hong_Kong:20191015T163000
DTEND;TZID=Asia/Hong_Kong:20191015T183000
LOCATION:鄭裕彤樓G009A、B室（9月12、 19日、10月3、17、24、31日、11月14日 - 星期四）及運動室 LG1027 （11月18日 - 星期一）
SUMMARY:粵劇教育拓展項目2019 - 跟名伶學粵劇工作坊 - 第三班（逢星期四　下午 4:30 - 6:30）
UID:22514
END:VEVENT
BEGIN:VEVENT
DTSTAMP;TZID=Asia/Hong_Kong:20260420T152253
DTSTART;TZID=Asia/Hong_Kong:20191016T163000
DTEND;TZID=Asia/Hong_Kong:20191016T183000
LOCATION:鄭裕彤樓G009A、B室（9月12、 19日、10月3、17、24、31日、11月14日 - 星期四）及運動室 LG1027 （11月18日 - 星期一）
SUMMARY:粵劇教育拓展項目2019 - 跟名伶學粵劇工作坊 - 第三班（逢星期四　下午 4:30 - 6:30）
UID:22514
END:VEVENT
BEGIN:VEVENT
DTSTAMP;TZID=Asia/Hong_Kong:20260420T152253
DTSTART;TZID=Asia/Hong_Kong:20191017T163000
DTEND;TZID=Asia/Hong_Kong:20191017T183000
LOCATION:鄭裕彤樓G009A、B室（9月12、 19日、10月3、17、24、31日、11月14日 - 星期四）及運動室 LG1027 （11月18日 - 星期一）
SUMMARY:粵劇教育拓展項目2019 - 跟名伶學粵劇工作坊 - 第三班（逢星期四　下午 4:30 - 6:30）
UID:22514
END:VEVENT
BEGIN:VEVENT
DTSTAMP;TZID=Asia/Hong_Kong:20260420T152253
DTSTART;TZID=Asia/Hong_Kong:20191018T163000
DTEND;TZID=Asia/Hong_Kong:20191018T183000
LOCATION:鄭裕彤樓G009A、B室（9月12、 19日、10月3、17、24、31日、11月14日 - 星期四）及運動室 LG1027 （11月18日 - 星期一）
SUMMARY:粵劇教育拓展項目2019 - 跟名伶學粵劇工作坊 - 第三班（逢星期四　下午 4:30 - 6:30）
UID:22514
END:VEVENT
BEGIN:VEVENT
DTSTAMP;TZID=Asia/Hong_Kong:20260420T152253
DTSTART;TZID=Asia/Hong_Kong:20191019T163000
DTEND;TZID=Asia/Hong_Kong:20191019T183000
LOCATION:鄭裕彤樓G009A、B室（9月12、 19日、10月3、17、24、31日、11月14日 - 星期四）及運動室 LG1027 （11月18日 - 星期一）
SUMMARY:粵劇教育拓展項目2019 - 跟名伶學粵劇工作坊 - 第三班（逢星期四　下午 4:30 - 6:30）
UID:22514
END:VEVENT
BEGIN:VEVENT
DTSTAMP;TZID=Asia/Hong_Kong:20260420T152253
DTSTART;TZID=Asia/Hong_Kong:20191020T163000
DTEND;TZID=Asia/Hong_Kong:20191020T183000
LOCATION:鄭裕彤樓G009A、B室（9月12、 19日、10月3、17、24、31日、11月14日 - 星期四）及運動室 LG1027 （11月18日 - 星期一）
SUMMARY:粵劇教育拓展項目2019 - 跟名伶學粵劇工作坊 - 第三班（逢星期四　下午 4:30 - 6:30）
UID:22514
END:VEVENT
BEGIN:VEVENT
DTSTAMP;TZID=Asia/Hong_Kong:20260420T152253
DTSTART;TZID=Asia/Hong_Kong:20191021T163000
DTEND;TZID=Asia/Hong_Kong:20191021T183000
LOCATION:鄭裕彤樓G009A、B室（9月12、 19日、10月3、17、24、31日、11月14日 - 星期四）及運動室 LG1027 （11月18日 - 星期一）
SUMMARY:粵劇教育拓展項目2019 - 跟名伶學粵劇工作坊 - 第三班（逢星期四　下午 4:30 - 6:30）
UID:22514
END:VEVENT
BEGIN:VEVENT
DTSTAMP;TZID=Asia/Hong_Kong:20260420T152253
DTSTART;TZID=Asia/Hong_Kong:20191022T163000
DTEND;TZID=Asia/Hong_Kong:20191022T183000
LOCATION:鄭裕彤樓G009A、B室（9月12、 19日、10月3、17、24、31日、11月14日 - 星期四）及運動室 LG1027 （11月18日 - 星期一）
SUMMARY:粵劇教育拓展項目2019 - 跟名伶學粵劇工作坊 - 第三班（逢星期四　下午 4:30 - 6:30）
UID:22514
END:VEVENT
BEGIN:VEVENT
DTSTAMP;TZID=Asia/Hong_Kong:20260420T152253
DTSTART;TZID=Asia/Hong_Kong:20191023T163000
DTEND;TZID=Asia/Hong_Kong:20191023T183000
LOCATION:鄭裕彤樓G009A、B室（9月12、 19日、10月3、17、24、31日、11月14日 - 星期四）及運動室 LG1027 （11月18日 - 星期一）
SUMMARY:粵劇教育拓展項目2019 - 跟名伶學粵劇工作坊 - 第三班（逢星期四　下午 4:30 - 6:30）
UID:22514
END:VEVENT
BEGIN:VEVENT
DTSTAMP;TZID=Asia/Hong_Kong:20260420T152253
DTSTART;TZID=Asia/Hong_Kong:20191024T163000
DTEND;TZID=Asia/Hong_Kong:20191024T183000
LOCATION:鄭裕彤樓G009A、B室（9月12、 19日、10月3、17、24、31日、11月14日 - 星期四）及運動室 LG1027 （11月18日 - 星期一）
SUMMARY:粵劇教育拓展項目2019 - 跟名伶學粵劇工作坊 - 第三班（逢星期四　下午 4:30 - 6:30）
UID:22514
END:VEVENT
BEGIN:VEVENT
DTSTAMP;TZID=Asia/Hong_Kong:20260420T152253
DTSTART;TZID=Asia/Hong_Kong:20191025T163000
DTEND;TZID=Asia/Hong_Kong:20191025T183000
LOCATION:鄭裕彤樓G009A、B室（9月12、 19日、10月3、17、24、31日、11月14日 - 星期四）及運動室 LG1027 （11月18日 - 星期一）
SUMMARY:粵劇教育拓展項目2019 - 跟名伶學粵劇工作坊 - 第三班（逢星期四　下午 4:30 - 6:30）
UID:22514
END:VEVENT
BEGIN:VEVENT
DTSTAMP;TZID=Asia/Hong_Kong:20260420T152253
DTSTART;TZID=Asia/Hong_Kong:20191026T163000
DTEND;TZID=Asia/Hong_Kong:20191026T183000
LOCATION:鄭裕彤樓G009A、B室（9月12、 19日、10月3、17、24、31日、11月14日 - 星期四）及運動室 LG1027 （11月18日 - 星期一）
SUMMARY:粵劇教育拓展項目2019 - 跟名伶學粵劇工作坊 - 第三班（逢星期四　下午 4:30 - 6:30）
UID:22514
END:VEVENT
BEGIN:VEVENT
DTSTAMP;TZID=Asia/Hong_Kong:20260420T152253
DTSTART;TZID=Asia/Hong_Kong:20191027T163000
DTEND;TZID=Asia/Hong_Kong:20191027T183000
LOCATION:鄭裕彤樓G009A、B室（9月12、 19日、10月3、17、24、31日、11月14日 - 星期四）及運動室 LG1027 （11月18日 - 星期一）
SUMMARY:粵劇教育拓展項目2019 - 跟名伶學粵劇工作坊 - 第三班（逢星期四　下午 4:30 - 6:30）
UID:22514
END:VEVENT
BEGIN:VEVENT
DTSTAMP;TZID=Asia/Hong_Kong:20260420T152253
DTSTART;TZID=Asia/Hong_Kong:20191028T163000
DTEND;TZID=Asia/Hong_Kong:20191028T183000
LOCATION:鄭裕彤樓G009A、B室（9月12、 19日、10月3、17、24、31日、11月14日 - 星期四）及運動室 LG1027 （11月18日 - 星期一）
SUMMARY:粵劇教育拓展項目2019 - 跟名伶學粵劇工作坊 - 第三班（逢星期四　下午 4:30 - 6:30）
UID:22514
END:VEVENT
BEGIN:VEVENT
DTSTAMP;TZID=Asia/Hong_Kong:20260420T152253
DTSTART;TZID=Asia/Hong_Kong:20191029T163000
DTEND;TZID=Asia/Hong_Kong:20191029T183000
LOCATION:鄭裕彤樓G009A、B室（9月12、 19日、10月3、17、24、31日、11月14日 - 星期四）及運動室 LG1027 （11月18日 - 星期一）
SUMMARY:粵劇教育拓展項目2019 - 跟名伶學粵劇工作坊 - 第三班（逢星期四　下午 4:30 - 6:30）
UID:22514
END:VEVENT
BEGIN:VEVENT
DTSTAMP;TZID=Asia/Hong_Kong:20260420T152253
DTSTART;TZID=Asia/Hong_Kong:20191030T163000
DTEND;TZID=Asia/Hong_Kong:20191030T183000
LOCATION:鄭裕彤樓G009A、B室（9月12、 19日、10月3、17、24、31日、11月14日 - 星期四）及運動室 LG1027 （11月18日 - 星期一）
SUMMARY:粵劇教育拓展項目2019 - 跟名伶學粵劇工作坊 - 第三班（逢星期四　下午 4:30 - 6:30）
UID:22514
END:VEVENT
BEGIN:VEVENT
DTSTAMP;TZID=Asia/Hong_Kong:20260420T152253
DTSTART;TZID=Asia/Hong_Kong:20191031T163000
DTEND;TZID=Asia/Hong_Kong:20191031T183000
LOCATION:鄭裕彤樓G009A、B室（9月12、 19日、10月3、17、24、31日、11月14日 - 星期四）及運動室 LG1027 （11月18日 - 星期一）
SUMMARY:粵劇教育拓展項目2019 - 跟名伶學粵劇工作坊 - 第三班（逢星期四　下午 4:30 - 6:30）
UID:22514
END:VEVENT
BEGIN:VEVENT
DTSTAMP;TZID=Asia/Hong_Kong:20260420T152253
DTSTART;TZID=Asia/Hong_Kong:20191101T163000
DTEND;TZID=Asia/Hong_Kong:20191101T183000
LOCATION:鄭裕彤樓G009A、B室（9月12、 19日、10月3、17、24、31日、11月14日 - 星期四）及運動室 LG1027 （11月18日 - 星期一）
SUMMARY:粵劇教育拓展項目2019 - 跟名伶學粵劇工作坊 - 第三班（逢星期四　下午 4:30 - 6:30）
UID:22514
END:VEVENT
BEGIN:VEVENT
DTSTAMP;TZID=Asia/Hong_Kong:20260420T152253
DTSTART;TZID=Asia/Hong_Kong:20191102T163000
DTEND;TZID=Asia/Hong_Kong:20191102T183000
LOCATION:鄭裕彤樓G009A、B室（9月12、 19日、10月3、17、24、31日、11月14日 - 星期四）及運動室 LG1027 （11月18日 - 星期一）
SUMMARY:粵劇教育拓展項目2019 - 跟名伶學粵劇工作坊 - 第三班（逢星期四　下午 4:30 - 6:30）
UID:22514
END:VEVENT
BEGIN:VEVENT
DTSTAMP;TZID=Asia/Hong_Kong:20260420T152253
DTSTART;TZID=Asia/Hong_Kong:20191103T163000
DTEND;TZID=Asia/Hong_Kong:20191103T183000
LOCATION:鄭裕彤樓G009A、B室（9月12、 19日、10月3、17、24、31日、11月14日 - 星期四）及運動室 LG1027 （11月18日 - 星期一）
SUMMARY:粵劇教育拓展項目2019 - 跟名伶學粵劇工作坊 - 第三班（逢星期四　下午 4:30 - 6:30）
UID:22514
END:VEVENT
BEGIN:VEVENT
DTSTAMP;TZID=Asia/Hong_Kong:20260420T152253
DTSTART;TZID=Asia/Hong_Kong:20191104T163000
DTEND;TZID=Asia/Hong_Kong:20191104T183000
LOCATION:鄭裕彤樓G009A、B室（9月12、 19日、10月3、17、24、31日、11月14日 - 星期四）及運動室 LG1027 （11月18日 - 星期一）
SUMMARY:粵劇教育拓展項目2019 - 跟名伶學粵劇工作坊 - 第三班（逢星期四　下午 4:30 - 6:30）
UID:22514
END:VEVENT
BEGIN:VEVENT
DTSTAMP;TZID=Asia/Hong_Kong:20260420T152253
DTSTART;TZID=Asia/Hong_Kong:20191105T163000
DTEND;TZID=Asia/Hong_Kong:20191105T183000
LOCATION:鄭裕彤樓G009A、B室（9月12、 19日、10月3、17、24、31日、11月14日 - 星期四）及運動室 LG1027 （11月18日 - 星期一）
SUMMARY:粵劇教育拓展項目2019 - 跟名伶學粵劇工作坊 - 第三班（逢星期四　下午 4:30 - 6:30）
UID:22514
END:VEVENT
BEGIN:VEVENT
DTSTAMP;TZID=Asia/Hong_Kong:20260420T152253
DTSTART;TZID=Asia/Hong_Kong:20191106T163000
DTEND;TZID=Asia/Hong_Kong:20191106T183000
LOCATION:鄭裕彤樓G009A、B室（9月12、 19日、10月3、17、24、31日、11月14日 - 星期四）及運動室 LG1027 （11月18日 - 星期一）
SUMMARY:粵劇教育拓展項目2019 - 跟名伶學粵劇工作坊 - 第三班（逢星期四　下午 4:30 - 6:30）
UID:22514
END:VEVENT
BEGIN:VEVENT
DTSTAMP;TZID=Asia/Hong_Kong:20260420T152253
DTSTART;TZID=Asia/Hong_Kong:20191107T163000
DTEND;TZID=Asia/Hong_Kong:20191107T183000
LOCATION:鄭裕彤樓G009A、B室（9月12、 19日、10月3、17、24、31日、11月14日 - 星期四）及運動室 LG1027 （11月18日 - 星期一）
SUMMARY:粵劇教育拓展項目2019 - 跟名伶學粵劇工作坊 - 第三班（逢星期四　下午 4:30 - 6:30）
UID:22514
END:VEVENT
BEGIN:VEVENT
DTSTAMP;TZID=Asia/Hong_Kong:20260420T152253
DTSTART;TZID=Asia/Hong_Kong:20191108T163000
DTEND;TZID=Asia/Hong_Kong:20191108T183000
LOCATION:鄭裕彤樓G009A、B室（9月12、 19日、10月3、17、24、31日、11月14日 - 星期四）及運動室 LG1027 （11月18日 - 星期一）
SUMMARY:粵劇教育拓展項目2019 - 跟名伶學粵劇工作坊 - 第三班（逢星期四　下午 4:30 - 6:30）
UID:22514
END:VEVENT
BEGIN:VEVENT
DTSTAMP;TZID=Asia/Hong_Kong:20260420T152253
DTSTART;TZID=Asia/Hong_Kong:20191109T163000
DTEND;TZID=Asia/Hong_Kong:20191109T183000
LOCATION:鄭裕彤樓G009A、B室（9月12、 19日、10月3、17、24、31日、11月14日 - 星期四）及運動室 LG1027 （11月18日 - 星期一）
SUMMARY:粵劇教育拓展項目2019 - 跟名伶學粵劇工作坊 - 第三班（逢星期四　下午 4:30 - 6:30）
UID:22514
END:VEVENT
BEGIN:VEVENT
DTSTAMP;TZID=Asia/Hong_Kong:20260420T152253
DTSTART;TZID=Asia/Hong_Kong:20191110T163000
DTEND;TZID=Asia/Hong_Kong:20191110T183000
LOCATION:鄭裕彤樓G009A、B室（9月12、 19日、10月3、17、24、31日、11月14日 - 星期四）及運動室 LG1027 （11月18日 - 星期一）
SUMMARY:粵劇教育拓展項目2019 - 跟名伶學粵劇工作坊 - 第三班（逢星期四　下午 4:30 - 6:30）
UID:22514
END:VEVENT
BEGIN:VEVENT
DTSTAMP;TZID=Asia/Hong_Kong:20260420T152253
DTSTART;TZID=Asia/Hong_Kong:20191111T163000
DTEND;TZID=Asia/Hong_Kong:20191111T183000
LOCATION:鄭裕彤樓G009A、B室（9月12、 19日、10月3、17、24、31日、11月14日 - 星期四）及運動室 LG1027 （11月18日 - 星期一）
SUMMARY:粵劇教育拓展項目2019 - 跟名伶學粵劇工作坊 - 第三班（逢星期四　下午 4:30 - 6:30）
UID:22514
END:VEVENT
BEGIN:VEVENT
DTSTAMP;TZID=Asia/Hong_Kong:20260420T152253
DTSTART;TZID=Asia/Hong_Kong:20191112T163000
DTEND;TZID=Asia/Hong_Kong:20191112T183000
LOCATION:鄭裕彤樓G009A、B室（9月12、 19日、10月3、17、24、31日、11月14日 - 星期四）及運動室 LG1027 （11月18日 - 星期一）
SUMMARY:粵劇教育拓展項目2019 - 跟名伶學粵劇工作坊 - 第三班（逢星期四　下午 4:30 - 6:30）
UID:22514
END:VEVENT
BEGIN:VEVENT
DTSTAMP;TZID=Asia/Hong_Kong:20260420T152253
DTSTART;TZID=Asia/Hong_Kong:20191113T163000
DTEND;TZID=Asia/Hong_Kong:20191113T183000
LOCATION:鄭裕彤樓G009A、B室（9月12、 19日、10月3、17、24、31日、11月14日 - 星期四）及運動室 LG1027 （11月18日 - 星期一）
SUMMARY:粵劇教育拓展項目2019 - 跟名伶學粵劇工作坊 - 第三班（逢星期四　下午 4:30 - 6:30）
UID:22514
END:VEVENT
BEGIN:VEVENT
DTSTAMP;TZID=Asia/Hong_Kong:20260420T152253
DTSTART;TZID=Asia/Hong_Kong:20191114T163000
DTEND;TZID=Asia/Hong_Kong:20191114T183000
LOCATION:鄭裕彤樓G009A、B室（9月12、 19日、10月3、17、24、31日、11月14日 - 星期四）及運動室 LG1027 （11月18日 - 星期一）
SUMMARY:粵劇教育拓展項目2019 - 跟名伶學粵劇工作坊 - 第三班（逢星期四　下午 4:30 - 6:30）
UID:22514
END:VEVENT
BEGIN:VEVENT
DTSTAMP;TZID=Asia/Hong_Kong:20260420T152253
DTSTART;TZID=Asia/Hong_Kong:20191115T163000
DTEND;TZID=Asia/Hong_Kong:20191115T183000
LOCATION:鄭裕彤樓G009A、B室（9月12、 19日、10月3、17、24、31日、11月14日 - 星期四）及運動室 LG1027 （11月18日 - 星期一）
SUMMARY:粵劇教育拓展項目2019 - 跟名伶學粵劇工作坊 - 第三班（逢星期四　下午 4:30 - 6:30）
UID:22514
END:VEVENT
BEGIN:VEVENT
DTSTAMP;TZID=Asia/Hong_Kong:20260420T152253
DTSTART;TZID=Asia/Hong_Kong:20191116T163000
DTEND;TZID=Asia/Hong_Kong:20191116T183000
LOCATION:鄭裕彤樓G009A、B室（9月12、 19日、10月3、17、24、31日、11月14日 - 星期四）及運動室 LG1027 （11月18日 - 星期一）
SUMMARY:粵劇教育拓展項目2019 - 跟名伶學粵劇工作坊 - 第三班（逢星期四　下午 4:30 - 6:30）
UID:22514
END:VEVENT
BEGIN:VEVENT
DTSTAMP;TZID=Asia/Hong_Kong:20260420T152253
DTSTART;TZID=Asia/Hong_Kong:20191117T163000
DTEND;TZID=Asia/Hong_Kong:20191117T183000
LOCATION:鄭裕彤樓G009A、B室（9月12、 19日、10月3、17、24、31日、11月14日 - 星期四）及運動室 LG1027 （11月18日 - 星期一）
SUMMARY:粵劇教育拓展項目2019 - 跟名伶學粵劇工作坊 - 第三班（逢星期四　下午 4:30 - 6:30）
UID:22514
END:VEVENT
BEGIN:VEVENT
DTSTAMP;TZID=Asia/Hong_Kong:20260420T152253
DTSTART;TZID=Asia/Hong_Kong:20191118T163000
DTEND;TZID=Asia/Hong_Kong:20191118T183000
LOCATION:鄭裕彤樓G009A、B室（9月12、 19日、10月3、17、24、31日、11月14日 - 星期四）及運動室 LG1027 （11月18日 - 星期一）
SUMMARY:粵劇教育拓展項目2019 - 跟名伶學粵劇工作坊 - 第三班（逢星期四　下午 4:30 - 6:30）
UID:22514
END:VEVENT
END:VCALENDAR