BEGIN:VCALENDAR
PRODID:-//HKUST Drupal Platform//EN
VERSION:2.0
BEGIN:VTIMEZONE
TZID:Asia/Hong_Kong
BEGIN:STANDARD
DTSTART:20071104T020000
TZOFFSETFROM:+0700
TZOFFSETTO:+0800
TZNAME:HKT
END:STANDARD
END:VTIMEZONE
BEGIN:VEVENT
DTSTAMP;TZID=Asia/Hong_Kong:20260420T152215
DTSTART;TZID=Asia/Hong_Kong:20190909T180000
DTEND;TZID=Asia/Hong_Kong:20190909T200000
LOCATION:運動室 LG1027
SUMMARY:粵劇教育拓展項目2019 - 跟名伶學粵劇工作坊 - 第二班（逢星期一　下午 6:00 - 8:00）
UID:22502
END:VEVENT
BEGIN:VEVENT
DTSTAMP;TZID=Asia/Hong_Kong:20260420T152215
DTSTART;TZID=Asia/Hong_Kong:20190910T180000
DTEND;TZID=Asia/Hong_Kong:20190910T200000
LOCATION:運動室 LG1027
SUMMARY:粵劇教育拓展項目2019 - 跟名伶學粵劇工作坊 - 第二班（逢星期一　下午 6:00 - 8:00）
UID:22502
END:VEVENT
BEGIN:VEVENT
DTSTAMP;TZID=Asia/Hong_Kong:20260420T152215
DTSTART;TZID=Asia/Hong_Kong:20190911T180000
DTEND;TZID=Asia/Hong_Kong:20190911T200000
LOCATION:運動室 LG1027
SUMMARY:粵劇教育拓展項目2019 - 跟名伶學粵劇工作坊 - 第二班（逢星期一　下午 6:00 - 8:00）
UID:22502
END:VEVENT
BEGIN:VEVENT
DTSTAMP;TZID=Asia/Hong_Kong:20260420T152215
DTSTART;TZID=Asia/Hong_Kong:20190912T180000
DTEND;TZID=Asia/Hong_Kong:20190912T200000
LOCATION:運動室 LG1027
SUMMARY:粵劇教育拓展項目2019 - 跟名伶學粵劇工作坊 - 第二班（逢星期一　下午 6:00 - 8:00）
UID:22502
END:VEVENT
BEGIN:VEVENT
DTSTAMP;TZID=Asia/Hong_Kong:20260420T152215
DTSTART;TZID=Asia/Hong_Kong:20190913T180000
DTEND;TZID=Asia/Hong_Kong:20190913T200000
LOCATION:運動室 LG1027
SUMMARY:粵劇教育拓展項目2019 - 跟名伶學粵劇工作坊 - 第二班（逢星期一　下午 6:00 - 8:00）
UID:22502
END:VEVENT
BEGIN:VEVENT
DTSTAMP;TZID=Asia/Hong_Kong:20260420T152215
DTSTART;TZID=Asia/Hong_Kong:20190914T180000
DTEND;TZID=Asia/Hong_Kong:20190914T200000
LOCATION:運動室 LG1027
SUMMARY:粵劇教育拓展項目2019 - 跟名伶學粵劇工作坊 - 第二班（逢星期一　下午 6:00 - 8:00）
UID:22502
END:VEVENT
BEGIN:VEVENT
DTSTAMP;TZID=Asia/Hong_Kong:20260420T152215
DTSTART;TZID=Asia/Hong_Kong:20190915T180000
DTEND;TZID=Asia/Hong_Kong:20190915T200000
LOCATION:運動室 LG1027
SUMMARY:粵劇教育拓展項目2019 - 跟名伶學粵劇工作坊 - 第二班（逢星期一　下午 6:00 - 8:00）
UID:22502
END:VEVENT
BEGIN:VEVENT
DTSTAMP;TZID=Asia/Hong_Kong:20260420T152215
DTSTART;TZID=Asia/Hong_Kong:20190916T180000
DTEND;TZID=Asia/Hong_Kong:20190916T200000
LOCATION:運動室 LG1027
SUMMARY:粵劇教育拓展項目2019 - 跟名伶學粵劇工作坊 - 第二班（逢星期一　下午 6:00 - 8:00）
UID:22502
END:VEVENT
BEGIN:VEVENT
DTSTAMP;TZID=Asia/Hong_Kong:20260420T152215
DTSTART;TZID=Asia/Hong_Kong:20190917T180000
DTEND;TZID=Asia/Hong_Kong:20190917T200000
LOCATION:運動室 LG1027
SUMMARY:粵劇教育拓展項目2019 - 跟名伶學粵劇工作坊 - 第二班（逢星期一　下午 6:00 - 8:00）
UID:22502
END:VEVENT
BEGIN:VEVENT
DTSTAMP;TZID=Asia/Hong_Kong:20260420T152215
DTSTART;TZID=Asia/Hong_Kong:20190918T180000
DTEND;TZID=Asia/Hong_Kong:20190918T200000
LOCATION:運動室 LG1027
SUMMARY:粵劇教育拓展項目2019 - 跟名伶學粵劇工作坊 - 第二班（逢星期一　下午 6:00 - 8:00）
UID:22502
END:VEVENT
BEGIN:VEVENT
DTSTAMP;TZID=Asia/Hong_Kong:20260420T152215
DTSTART;TZID=Asia/Hong_Kong:20190919T180000
DTEND;TZID=Asia/Hong_Kong:20190919T200000
LOCATION:運動室 LG1027
SUMMARY:粵劇教育拓展項目2019 - 跟名伶學粵劇工作坊 - 第二班（逢星期一　下午 6:00 - 8:00）
UID:22502
END:VEVENT
BEGIN:VEVENT
DTSTAMP;TZID=Asia/Hong_Kong:20260420T152215
DTSTART;TZID=Asia/Hong_Kong:20190920T180000
DTEND;TZID=Asia/Hong_Kong:20190920T200000
LOCATION:運動室 LG1027
SUMMARY:粵劇教育拓展項目2019 - 跟名伶學粵劇工作坊 - 第二班（逢星期一　下午 6:00 - 8:00）
UID:22502
END:VEVENT
BEGIN:VEVENT
DTSTAMP;TZID=Asia/Hong_Kong:20260420T152215
DTSTART;TZID=Asia/Hong_Kong:20190921T180000
DTEND;TZID=Asia/Hong_Kong:20190921T200000
LOCATION:運動室 LG1027
SUMMARY:粵劇教育拓展項目2019 - 跟名伶學粵劇工作坊 - 第二班（逢星期一　下午 6:00 - 8:00）
UID:22502
END:VEVENT
BEGIN:VEVENT
DTSTAMP;TZID=Asia/Hong_Kong:20260420T152215
DTSTART;TZID=Asia/Hong_Kong:20190922T180000
DTEND;TZID=Asia/Hong_Kong:20190922T200000
LOCATION:運動室 LG1027
SUMMARY:粵劇教育拓展項目2019 - 跟名伶學粵劇工作坊 - 第二班（逢星期一　下午 6:00 - 8:00）
UID:22502
END:VEVENT
BEGIN:VEVENT
DTSTAMP;TZID=Asia/Hong_Kong:20260420T152215
DTSTART;TZID=Asia/Hong_Kong:20190923T180000
DTEND;TZID=Asia/Hong_Kong:20190923T200000
LOCATION:運動室 LG1027
SUMMARY:粵劇教育拓展項目2019 - 跟名伶學粵劇工作坊 - 第二班（逢星期一　下午 6:00 - 8:00）
UID:22502
END:VEVENT
BEGIN:VEVENT
DTSTAMP;TZID=Asia/Hong_Kong:20260420T152215
DTSTART;TZID=Asia/Hong_Kong:20190924T180000
DTEND;TZID=Asia/Hong_Kong:20190924T200000
LOCATION:運動室 LG1027
SUMMARY:粵劇教育拓展項目2019 - 跟名伶學粵劇工作坊 - 第二班（逢星期一　下午 6:00 - 8:00）
UID:22502
END:VEVENT
BEGIN:VEVENT
DTSTAMP;TZID=Asia/Hong_Kong:20260420T152215
DTSTART;TZID=Asia/Hong_Kong:20190925T180000
DTEND;TZID=Asia/Hong_Kong:20190925T200000
LOCATION:運動室 LG1027
SUMMARY:粵劇教育拓展項目2019 - 跟名伶學粵劇工作坊 - 第二班（逢星期一　下午 6:00 - 8:00）
UID:22502
END:VEVENT
BEGIN:VEVENT
DTSTAMP;TZID=Asia/Hong_Kong:20260420T152215
DTSTART;TZID=Asia/Hong_Kong:20190926T180000
DTEND;TZID=Asia/Hong_Kong:20190926T200000
LOCATION:運動室 LG1027
SUMMARY:粵劇教育拓展項目2019 - 跟名伶學粵劇工作坊 - 第二班（逢星期一　下午 6:00 - 8:00）
UID:22502
END:VEVENT
BEGIN:VEVENT
DTSTAMP;TZID=Asia/Hong_Kong:20260420T152215
DTSTART;TZID=Asia/Hong_Kong:20190927T180000
DTEND;TZID=Asia/Hong_Kong:20190927T200000
LOCATION:運動室 LG1027
SUMMARY:粵劇教育拓展項目2019 - 跟名伶學粵劇工作坊 - 第二班（逢星期一　下午 6:00 - 8:00）
UID:22502
END:VEVENT
BEGIN:VEVENT
DTSTAMP;TZID=Asia/Hong_Kong:20260420T152215
DTSTART;TZID=Asia/Hong_Kong:20190928T180000
DTEND;TZID=Asia/Hong_Kong:20190928T200000
LOCATION:運動室 LG1027
SUMMARY:粵劇教育拓展項目2019 - 跟名伶學粵劇工作坊 - 第二班（逢星期一　下午 6:00 - 8:00）
UID:22502
END:VEVENT
BEGIN:VEVENT
DTSTAMP;TZID=Asia/Hong_Kong:20260420T152215
DTSTART;TZID=Asia/Hong_Kong:20190929T180000
DTEND;TZID=Asia/Hong_Kong:20190929T200000
LOCATION:運動室 LG1027
SUMMARY:粵劇教育拓展項目2019 - 跟名伶學粵劇工作坊 - 第二班（逢星期一　下午 6:00 - 8:00）
UID:22502
END:VEVENT
BEGIN:VEVENT
DTSTAMP;TZID=Asia/Hong_Kong:20260420T152215
DTSTART;TZID=Asia/Hong_Kong:20190930T180000
DTEND;TZID=Asia/Hong_Kong:20190930T200000
LOCATION:運動室 LG1027
SUMMARY:粵劇教育拓展項目2019 - 跟名伶學粵劇工作坊 - 第二班（逢星期一　下午 6:00 - 8:00）
UID:22502
END:VEVENT
BEGIN:VEVENT
DTSTAMP;TZID=Asia/Hong_Kong:20260420T152215
DTSTART;TZID=Asia/Hong_Kong:20191001T180000
DTEND;TZID=Asia/Hong_Kong:20191001T200000
LOCATION:運動室 LG1027
SUMMARY:粵劇教育拓展項目2019 - 跟名伶學粵劇工作坊 - 第二班（逢星期一　下午 6:00 - 8:00）
UID:22502
END:VEVENT
BEGIN:VEVENT
DTSTAMP;TZID=Asia/Hong_Kong:20260420T152215
DTSTART;TZID=Asia/Hong_Kong:20191002T180000
DTEND;TZID=Asia/Hong_Kong:20191002T200000
LOCATION:運動室 LG1027
SUMMARY:粵劇教育拓展項目2019 - 跟名伶學粵劇工作坊 - 第二班（逢星期一　下午 6:00 - 8:00）
UID:22502
END:VEVENT
BEGIN:VEVENT
DTSTAMP;TZID=Asia/Hong_Kong:20260420T152215
DTSTART;TZID=Asia/Hong_Kong:20191003T180000
DTEND;TZID=Asia/Hong_Kong:20191003T200000
LOCATION:運動室 LG1027
SUMMARY:粵劇教育拓展項目2019 - 跟名伶學粵劇工作坊 - 第二班（逢星期一　下午 6:00 - 8:00）
UID:22502
END:VEVENT
BEGIN:VEVENT
DTSTAMP;TZID=Asia/Hong_Kong:20260420T152215
DTSTART;TZID=Asia/Hong_Kong:20191004T180000
DTEND;TZID=Asia/Hong_Kong:20191004T200000
LOCATION:運動室 LG1027
SUMMARY:粵劇教育拓展項目2019 - 跟名伶學粵劇工作坊 - 第二班（逢星期一　下午 6:00 - 8:00）
UID:22502
END:VEVENT
BEGIN:VEVENT
DTSTAMP;TZID=Asia/Hong_Kong:20260420T152215
DTSTART;TZID=Asia/Hong_Kong:20191005T180000
DTEND;TZID=Asia/Hong_Kong:20191005T200000
LOCATION:運動室 LG1027
SUMMARY:粵劇教育拓展項目2019 - 跟名伶學粵劇工作坊 - 第二班（逢星期一　下午 6:00 - 8:00）
UID:22502
END:VEVENT
BEGIN:VEVENT
DTSTAMP;TZID=Asia/Hong_Kong:20260420T152215
DTSTART;TZID=Asia/Hong_Kong:20191006T180000
DTEND;TZID=Asia/Hong_Kong:20191006T200000
LOCATION:運動室 LG1027
SUMMARY:粵劇教育拓展項目2019 - 跟名伶學粵劇工作坊 - 第二班（逢星期一　下午 6:00 - 8:00）
UID:22502
END:VEVENT
BEGIN:VEVENT
DTSTAMP;TZID=Asia/Hong_Kong:20260420T152215
DTSTART;TZID=Asia/Hong_Kong:20191007T180000
DTEND;TZID=Asia/Hong_Kong:20191007T200000
LOCATION:運動室 LG1027
SUMMARY:粵劇教育拓展項目2019 - 跟名伶學粵劇工作坊 - 第二班（逢星期一　下午 6:00 - 8:00）
UID:22502
END:VEVENT
BEGIN:VEVENT
DTSTAMP;TZID=Asia/Hong_Kong:20260420T152215
DTSTART;TZID=Asia/Hong_Kong:20191008T180000
DTEND;TZID=Asia/Hong_Kong:20191008T200000
LOCATION:運動室 LG1027
SUMMARY:粵劇教育拓展項目2019 - 跟名伶學粵劇工作坊 - 第二班（逢星期一　下午 6:00 - 8:00）
UID:22502
END:VEVENT
BEGIN:VEVENT
DTSTAMP;TZID=Asia/Hong_Kong:20260420T152215
DTSTART;TZID=Asia/Hong_Kong:20191009T180000
DTEND;TZID=Asia/Hong_Kong:20191009T200000
LOCATION:運動室 LG1027
SUMMARY:粵劇教育拓展項目2019 - 跟名伶學粵劇工作坊 - 第二班（逢星期一　下午 6:00 - 8:00）
UID:22502
END:VEVENT
BEGIN:VEVENT
DTSTAMP;TZID=Asia/Hong_Kong:20260420T152215
DTSTART;TZID=Asia/Hong_Kong:20191010T180000
DTEND;TZID=Asia/Hong_Kong:20191010T200000
LOCATION:運動室 LG1027
SUMMARY:粵劇教育拓展項目2019 - 跟名伶學粵劇工作坊 - 第二班（逢星期一　下午 6:00 - 8:00）
UID:22502
END:VEVENT
BEGIN:VEVENT
DTSTAMP;TZID=Asia/Hong_Kong:20260420T152215
DTSTART;TZID=Asia/Hong_Kong:20191011T180000
DTEND;TZID=Asia/Hong_Kong:20191011T200000
LOCATION:運動室 LG1027
SUMMARY:粵劇教育拓展項目2019 - 跟名伶學粵劇工作坊 - 第二班（逢星期一　下午 6:00 - 8:00）
UID:22502
END:VEVENT
BEGIN:VEVENT
DTSTAMP;TZID=Asia/Hong_Kong:20260420T152215
DTSTART;TZID=Asia/Hong_Kong:20191012T180000
DTEND;TZID=Asia/Hong_Kong:20191012T200000
LOCATION:運動室 LG1027
SUMMARY:粵劇教育拓展項目2019 - 跟名伶學粵劇工作坊 - 第二班（逢星期一　下午 6:00 - 8:00）
UID:22502
END:VEVENT
BEGIN:VEVENT
DTSTAMP;TZID=Asia/Hong_Kong:20260420T152215
DTSTART;TZID=Asia/Hong_Kong:20191013T180000
DTEND;TZID=Asia/Hong_Kong:20191013T200000
LOCATION:運動室 LG1027
SUMMARY:粵劇教育拓展項目2019 - 跟名伶學粵劇工作坊 - 第二班（逢星期一　下午 6:00 - 8:00）
UID:22502
END:VEVENT
BEGIN:VEVENT
DTSTAMP;TZID=Asia/Hong_Kong:20260420T152215
DTSTART;TZID=Asia/Hong_Kong:20191014T180000
DTEND;TZID=Asia/Hong_Kong:20191014T200000
LOCATION:運動室 LG1027
SUMMARY:粵劇教育拓展項目2019 - 跟名伶學粵劇工作坊 - 第二班（逢星期一　下午 6:00 - 8:00）
UID:22502
END:VEVENT
BEGIN:VEVENT
DTSTAMP;TZID=Asia/Hong_Kong:20260420T152215
DTSTART;TZID=Asia/Hong_Kong:20191015T180000
DTEND;TZID=Asia/Hong_Kong:20191015T200000
LOCATION:運動室 LG1027
SUMMARY:粵劇教育拓展項目2019 - 跟名伶學粵劇工作坊 - 第二班（逢星期一　下午 6:00 - 8:00）
UID:22502
END:VEVENT
BEGIN:VEVENT
DTSTAMP;TZID=Asia/Hong_Kong:20260420T152215
DTSTART;TZID=Asia/Hong_Kong:20191016T180000
DTEND;TZID=Asia/Hong_Kong:20191016T200000
LOCATION:運動室 LG1027
SUMMARY:粵劇教育拓展項目2019 - 跟名伶學粵劇工作坊 - 第二班（逢星期一　下午 6:00 - 8:00）
UID:22502
END:VEVENT
BEGIN:VEVENT
DTSTAMP;TZID=Asia/Hong_Kong:20260420T152215
DTSTART;TZID=Asia/Hong_Kong:20191017T180000
DTEND;TZID=Asia/Hong_Kong:20191017T200000
LOCATION:運動室 LG1027
SUMMARY:粵劇教育拓展項目2019 - 跟名伶學粵劇工作坊 - 第二班（逢星期一　下午 6:00 - 8:00）
UID:22502
END:VEVENT
BEGIN:VEVENT
DTSTAMP;TZID=Asia/Hong_Kong:20260420T152215
DTSTART;TZID=Asia/Hong_Kong:20191018T180000
DTEND;TZID=Asia/Hong_Kong:20191018T200000
LOCATION:運動室 LG1027
SUMMARY:粵劇教育拓展項目2019 - 跟名伶學粵劇工作坊 - 第二班（逢星期一　下午 6:00 - 8:00）
UID:22502
END:VEVENT
BEGIN:VEVENT
DTSTAMP;TZID=Asia/Hong_Kong:20260420T152215
DTSTART;TZID=Asia/Hong_Kong:20191019T180000
DTEND;TZID=Asia/Hong_Kong:20191019T200000
LOCATION:運動室 LG1027
SUMMARY:粵劇教育拓展項目2019 - 跟名伶學粵劇工作坊 - 第二班（逢星期一　下午 6:00 - 8:00）
UID:22502
END:VEVENT
BEGIN:VEVENT
DTSTAMP;TZID=Asia/Hong_Kong:20260420T152215
DTSTART;TZID=Asia/Hong_Kong:20191020T180000
DTEND;TZID=Asia/Hong_Kong:20191020T200000
LOCATION:運動室 LG1027
SUMMARY:粵劇教育拓展項目2019 - 跟名伶學粵劇工作坊 - 第二班（逢星期一　下午 6:00 - 8:00）
UID:22502
END:VEVENT
BEGIN:VEVENT
DTSTAMP;TZID=Asia/Hong_Kong:20260420T152215
DTSTART;TZID=Asia/Hong_Kong:20191021T180000
DTEND;TZID=Asia/Hong_Kong:20191021T200000
LOCATION:運動室 LG1027
SUMMARY:粵劇教育拓展項目2019 - 跟名伶學粵劇工作坊 - 第二班（逢星期一　下午 6:00 - 8:00）
UID:22502
END:VEVENT
BEGIN:VEVENT
DTSTAMP;TZID=Asia/Hong_Kong:20260420T152215
DTSTART;TZID=Asia/Hong_Kong:20191022T180000
DTEND;TZID=Asia/Hong_Kong:20191022T200000
LOCATION:運動室 LG1027
SUMMARY:粵劇教育拓展項目2019 - 跟名伶學粵劇工作坊 - 第二班（逢星期一　下午 6:00 - 8:00）
UID:22502
END:VEVENT
BEGIN:VEVENT
DTSTAMP;TZID=Asia/Hong_Kong:20260420T152215
DTSTART;TZID=Asia/Hong_Kong:20191023T180000
DTEND;TZID=Asia/Hong_Kong:20191023T200000
LOCATION:運動室 LG1027
SUMMARY:粵劇教育拓展項目2019 - 跟名伶學粵劇工作坊 - 第二班（逢星期一　下午 6:00 - 8:00）
UID:22502
END:VEVENT
BEGIN:VEVENT
DTSTAMP;TZID=Asia/Hong_Kong:20260420T152215
DTSTART;TZID=Asia/Hong_Kong:20191024T180000
DTEND;TZID=Asia/Hong_Kong:20191024T200000
LOCATION:運動室 LG1027
SUMMARY:粵劇教育拓展項目2019 - 跟名伶學粵劇工作坊 - 第二班（逢星期一　下午 6:00 - 8:00）
UID:22502
END:VEVENT
BEGIN:VEVENT
DTSTAMP;TZID=Asia/Hong_Kong:20260420T152215
DTSTART;TZID=Asia/Hong_Kong:20191025T180000
DTEND;TZID=Asia/Hong_Kong:20191025T200000
LOCATION:運動室 LG1027
SUMMARY:粵劇教育拓展項目2019 - 跟名伶學粵劇工作坊 - 第二班（逢星期一　下午 6:00 - 8:00）
UID:22502
END:VEVENT
BEGIN:VEVENT
DTSTAMP;TZID=Asia/Hong_Kong:20260420T152215
DTSTART;TZID=Asia/Hong_Kong:20191026T180000
DTEND;TZID=Asia/Hong_Kong:20191026T200000
LOCATION:運動室 LG1027
SUMMARY:粵劇教育拓展項目2019 - 跟名伶學粵劇工作坊 - 第二班（逢星期一　下午 6:00 - 8:00）
UID:22502
END:VEVENT
BEGIN:VEVENT
DTSTAMP;TZID=Asia/Hong_Kong:20260420T152215
DTSTART;TZID=Asia/Hong_Kong:20191027T180000
DTEND;TZID=Asia/Hong_Kong:20191027T200000
LOCATION:運動室 LG1027
SUMMARY:粵劇教育拓展項目2019 - 跟名伶學粵劇工作坊 - 第二班（逢星期一　下午 6:00 - 8:00）
UID:22502
END:VEVENT
BEGIN:VEVENT
DTSTAMP;TZID=Asia/Hong_Kong:20260420T152215
DTSTART;TZID=Asia/Hong_Kong:20191028T180000
DTEND;TZID=Asia/Hong_Kong:20191028T200000
LOCATION:運動室 LG1027
SUMMARY:粵劇教育拓展項目2019 - 跟名伶學粵劇工作坊 - 第二班（逢星期一　下午 6:00 - 8:00）
UID:22502
END:VEVENT
BEGIN:VEVENT
DTSTAMP;TZID=Asia/Hong_Kong:20260420T152215
DTSTART;TZID=Asia/Hong_Kong:20191029T180000
DTEND;TZID=Asia/Hong_Kong:20191029T200000
LOCATION:運動室 LG1027
SUMMARY:粵劇教育拓展項目2019 - 跟名伶學粵劇工作坊 - 第二班（逢星期一　下午 6:00 - 8:00）
UID:22502
END:VEVENT
BEGIN:VEVENT
DTSTAMP;TZID=Asia/Hong_Kong:20260420T152215
DTSTART;TZID=Asia/Hong_Kong:20191030T180000
DTEND;TZID=Asia/Hong_Kong:20191030T200000
LOCATION:運動室 LG1027
SUMMARY:粵劇教育拓展項目2019 - 跟名伶學粵劇工作坊 - 第二班（逢星期一　下午 6:00 - 8:00）
UID:22502
END:VEVENT
BEGIN:VEVENT
DTSTAMP;TZID=Asia/Hong_Kong:20260420T152215
DTSTART;TZID=Asia/Hong_Kong:20191031T180000
DTEND;TZID=Asia/Hong_Kong:20191031T200000
LOCATION:運動室 LG1027
SUMMARY:粵劇教育拓展項目2019 - 跟名伶學粵劇工作坊 - 第二班（逢星期一　下午 6:00 - 8:00）
UID:22502
END:VEVENT
BEGIN:VEVENT
DTSTAMP;TZID=Asia/Hong_Kong:20260420T152215
DTSTART;TZID=Asia/Hong_Kong:20191101T180000
DTEND;TZID=Asia/Hong_Kong:20191101T200000
LOCATION:運動室 LG1027
SUMMARY:粵劇教育拓展項目2019 - 跟名伶學粵劇工作坊 - 第二班（逢星期一　下午 6:00 - 8:00）
UID:22502
END:VEVENT
BEGIN:VEVENT
DTSTAMP;TZID=Asia/Hong_Kong:20260420T152215
DTSTART;TZID=Asia/Hong_Kong:20191102T180000
DTEND;TZID=Asia/Hong_Kong:20191102T200000
LOCATION:運動室 LG1027
SUMMARY:粵劇教育拓展項目2019 - 跟名伶學粵劇工作坊 - 第二班（逢星期一　下午 6:00 - 8:00）
UID:22502
END:VEVENT
BEGIN:VEVENT
DTSTAMP;TZID=Asia/Hong_Kong:20260420T152215
DTSTART;TZID=Asia/Hong_Kong:20191103T180000
DTEND;TZID=Asia/Hong_Kong:20191103T200000
LOCATION:運動室 LG1027
SUMMARY:粵劇教育拓展項目2019 - 跟名伶學粵劇工作坊 - 第二班（逢星期一　下午 6:00 - 8:00）
UID:22502
END:VEVENT
BEGIN:VEVENT
DTSTAMP;TZID=Asia/Hong_Kong:20260420T152215
DTSTART;TZID=Asia/Hong_Kong:20191104T180000
DTEND;TZID=Asia/Hong_Kong:20191104T200000
LOCATION:運動室 LG1027
SUMMARY:粵劇教育拓展項目2019 - 跟名伶學粵劇工作坊 - 第二班（逢星期一　下午 6:00 - 8:00）
UID:22502
END:VEVENT
BEGIN:VEVENT
DTSTAMP;TZID=Asia/Hong_Kong:20260420T152215
DTSTART;TZID=Asia/Hong_Kong:20191105T180000
DTEND;TZID=Asia/Hong_Kong:20191105T200000
LOCATION:運動室 LG1027
SUMMARY:粵劇教育拓展項目2019 - 跟名伶學粵劇工作坊 - 第二班（逢星期一　下午 6:00 - 8:00）
UID:22502
END:VEVENT
BEGIN:VEVENT
DTSTAMP;TZID=Asia/Hong_Kong:20260420T152215
DTSTART;TZID=Asia/Hong_Kong:20191106T180000
DTEND;TZID=Asia/Hong_Kong:20191106T200000
LOCATION:運動室 LG1027
SUMMARY:粵劇教育拓展項目2019 - 跟名伶學粵劇工作坊 - 第二班（逢星期一　下午 6:00 - 8:00）
UID:22502
END:VEVENT
BEGIN:VEVENT
DTSTAMP;TZID=Asia/Hong_Kong:20260420T152215
DTSTART;TZID=Asia/Hong_Kong:20191107T180000
DTEND;TZID=Asia/Hong_Kong:20191107T200000
LOCATION:運動室 LG1027
SUMMARY:粵劇教育拓展項目2019 - 跟名伶學粵劇工作坊 - 第二班（逢星期一　下午 6:00 - 8:00）
UID:22502
END:VEVENT
BEGIN:VEVENT
DTSTAMP;TZID=Asia/Hong_Kong:20260420T152215
DTSTART;TZID=Asia/Hong_Kong:20191108T180000
DTEND;TZID=Asia/Hong_Kong:20191108T200000
LOCATION:運動室 LG1027
SUMMARY:粵劇教育拓展項目2019 - 跟名伶學粵劇工作坊 - 第二班（逢星期一　下午 6:00 - 8:00）
UID:22502
END:VEVENT
BEGIN:VEVENT
DTSTAMP;TZID=Asia/Hong_Kong:20260420T152215
DTSTART;TZID=Asia/Hong_Kong:20191109T180000
DTEND;TZID=Asia/Hong_Kong:20191109T200000
LOCATION:運動室 LG1027
SUMMARY:粵劇教育拓展項目2019 - 跟名伶學粵劇工作坊 - 第二班（逢星期一　下午 6:00 - 8:00）
UID:22502
END:VEVENT
BEGIN:VEVENT
DTSTAMP;TZID=Asia/Hong_Kong:20260420T152215
DTSTART;TZID=Asia/Hong_Kong:20191110T180000
DTEND;TZID=Asia/Hong_Kong:20191110T200000
LOCATION:運動室 LG1027
SUMMARY:粵劇教育拓展項目2019 - 跟名伶學粵劇工作坊 - 第二班（逢星期一　下午 6:00 - 8:00）
UID:22502
END:VEVENT
BEGIN:VEVENT
DTSTAMP;TZID=Asia/Hong_Kong:20260420T152215
DTSTART;TZID=Asia/Hong_Kong:20191111T180000
DTEND;TZID=Asia/Hong_Kong:20191111T200000
LOCATION:運動室 LG1027
SUMMARY:粵劇教育拓展項目2019 - 跟名伶學粵劇工作坊 - 第二班（逢星期一　下午 6:00 - 8:00）
UID:22502
END:VEVENT
BEGIN:VEVENT
DTSTAMP;TZID=Asia/Hong_Kong:20260420T152215
DTSTART;TZID=Asia/Hong_Kong:20191112T180000
DTEND;TZID=Asia/Hong_Kong:20191112T200000
LOCATION:運動室 LG1027
SUMMARY:粵劇教育拓展項目2019 - 跟名伶學粵劇工作坊 - 第二班（逢星期一　下午 6:00 - 8:00）
UID:22502
END:VEVENT
BEGIN:VEVENT
DTSTAMP;TZID=Asia/Hong_Kong:20260420T152215
DTSTART;TZID=Asia/Hong_Kong:20191113T180000
DTEND;TZID=Asia/Hong_Kong:20191113T200000
LOCATION:運動室 LG1027
SUMMARY:粵劇教育拓展項目2019 - 跟名伶學粵劇工作坊 - 第二班（逢星期一　下午 6:00 - 8:00）
UID:22502
END:VEVENT
BEGIN:VEVENT
DTSTAMP;TZID=Asia/Hong_Kong:20260420T152215
DTSTART;TZID=Asia/Hong_Kong:20191114T180000
DTEND;TZID=Asia/Hong_Kong:20191114T200000
LOCATION:運動室 LG1027
SUMMARY:粵劇教育拓展項目2019 - 跟名伶學粵劇工作坊 - 第二班（逢星期一　下午 6:00 - 8:00）
UID:22502
END:VEVENT
BEGIN:VEVENT
DTSTAMP;TZID=Asia/Hong_Kong:20260420T152215
DTSTART;TZID=Asia/Hong_Kong:20191115T180000
DTEND;TZID=Asia/Hong_Kong:20191115T200000
LOCATION:運動室 LG1027
SUMMARY:粵劇教育拓展項目2019 - 跟名伶學粵劇工作坊 - 第二班（逢星期一　下午 6:00 - 8:00）
UID:22502
END:VEVENT
BEGIN:VEVENT
DTSTAMP;TZID=Asia/Hong_Kong:20260420T152215
DTSTART;TZID=Asia/Hong_Kong:20191116T180000
DTEND;TZID=Asia/Hong_Kong:20191116T200000
LOCATION:運動室 LG1027
SUMMARY:粵劇教育拓展項目2019 - 跟名伶學粵劇工作坊 - 第二班（逢星期一　下午 6:00 - 8:00）
UID:22502
END:VEVENT
BEGIN:VEVENT
DTSTAMP;TZID=Asia/Hong_Kong:20260420T152215
DTSTART;TZID=Asia/Hong_Kong:20191117T180000
DTEND;TZID=Asia/Hong_Kong:20191117T200000
LOCATION:運動室 LG1027
SUMMARY:粵劇教育拓展項目2019 - 跟名伶學粵劇工作坊 - 第二班（逢星期一　下午 6:00 - 8:00）
UID:22502
END:VEVENT
BEGIN:VEVENT
DTSTAMP;TZID=Asia/Hong_Kong:20260420T152215
DTSTART;TZID=Asia/Hong_Kong:20191118T180000
DTEND;TZID=Asia/Hong_Kong:20191118T200000
LOCATION:運動室 LG1027
SUMMARY:粵劇教育拓展項目2019 - 跟名伶學粵劇工作坊 - 第二班（逢星期一　下午 6:00 - 8:00）
UID:22502
END:VEVENT
END:VCALENDAR