BEGIN:VCALENDAR
PRODID:-//HKUST Drupal Platform//EN
VERSION:2.0
BEGIN:VTIMEZONE
TZID:Asia/Hong_Kong
BEGIN:STANDARD
DTSTART:20071104T020000
TZOFFSETFROM:+0700
TZOFFSETTO:+0800
TZNAME:HKT
END:STANDARD
END:VTIMEZONE
BEGIN:VEVENT
DTSTAMP;TZID=Asia/Hong_Kong:20260420T193957
DTSTART;TZID=Asia/Hong_Kong:20190828T143000
DTEND;TZID=Asia/Hong_Kong:20190828T153000
LOCATION:Room 4502, 4/F (Lifts 25/26), Academic Building, HKUST
SUMMARY:CHEM - PhD Student Seminar - Apply Integral Equation Theory to Molecular Recognition
UID:22501
END:VEVENT
END:VCALENDAR