BEGIN:VCALENDAR
PRODID:-//HKUST Drupal Platform//EN
VERSION:2.0
BEGIN:VTIMEZONE
TZID:Asia/Hong_Kong
BEGIN:STANDARD
DTSTART:20071104T020000
TZOFFSETFROM:+0700
TZOFFSETTO:+0800
TZNAME:HKT
END:STANDARD
END:VTIMEZONE
BEGIN:VEVENT
DTSTAMP;TZID=Asia/Hong_Kong:20260420T222019
DTSTART;TZID=Asia/Hong_Kong:20190916T160000
DTEND;TZID=Asia/Hong_Kong:20190916T173000
LOCATION:Room 2303, 2/F (Lifts 17/18), Academic Building, HKUST
SUMMARY:CHEM Seminar - Hydrogen Complexes: Synthesis, Characterization and Applications
UID:22486
END:VEVENT
END:VCALENDAR