BEGIN:VCALENDAR
PRODID:-//HKUST Drupal Platform//EN
VERSION:2.0
BEGIN:VTIMEZONE
TZID:Asia/Hong_Kong
BEGIN:STANDARD
DTSTART:20071104T020000
TZOFFSETFROM:+0700
TZOFFSETTO:+0800
TZNAME:HKT
END:STANDARD
END:VTIMEZONE
BEGIN:VEVENT
DTSTAMP;TZID=Asia/Hong_Kong:20260420T152307
DTSTART;TZID=Asia/Hong_Kong:20190913T200000
DTEND;TZID=Asia/Hong_Kong:20190913T223000
LOCATION:Concert Hall
SUMMARY:Complimentary Tickets - Symphonie Fantastique (13 Sep 2019, Friday, 8 pm)
UID:22426
END:VEVENT
END:VCALENDAR