BEGIN:VCALENDAR
PRODID:-//HKUST Drupal Platform//EN
VERSION:2.0
BEGIN:VTIMEZONE
TZID:Asia/Hong_Kong
BEGIN:STANDARD
DTSTART:20071104T020000
TZOFFSETFROM:+0700
TZOFFSETTO:+0800
TZNAME:HKT
END:STANDARD
END:VTIMEZONE
BEGIN:VEVENT
DTSTAMP;TZID=Asia/Hong_Kong:20260420T152311
DTSTART;TZID=Asia/Hong_Kong:20191116T123000
DTEND;TZID=Asia/Hong_Kong:20191116T180000
LOCATION:Ayana Midplaza Jakarta
SUMMARY:QS World Grad School Tour: Jakarta, Indonesia (Organizer: QS)
UID:22385
END:VEVENT
END:VCALENDAR