BEGIN:VCALENDAR
PRODID:-//HKUST Drupal Platform//EN
VERSION:2.0
BEGIN:VTIMEZONE
TZID:Asia/Hong_Kong
BEGIN:STANDARD
DTSTART:20071104T020000
TZOFFSETFROM:+0700
TZOFFSETTO:+0800
TZNAME:HKT
END:STANDARD
END:VTIMEZONE
BEGIN:VEVENT
DTSTAMP;TZID=Asia/Hong_Kong:20260420T152209
DTSTART;TZID=Asia/Hong_Kong:20190928T103000
DTEND;TZID=Asia/Hong_Kong:20190928T113000
LOCATION:CityU Exhibition Gallery
SUMMARY:Visit to \"Leonardo Da Vinci: Art & Science - Then & Now\" Exhibition (English Guided Tour)
UID:22357
END:VEVENT
END:VCALENDAR