BEGIN:VCALENDAR
PRODID:-//HKUST Drupal Platform//EN
VERSION:2.0
BEGIN:VTIMEZONE
TZID:Asia/Hong_Kong
BEGIN:STANDARD
DTSTART:20071104T020000
TZOFFSETFROM:+0700
TZOFFSETTO:+0800
TZNAME:HKT
END:STANDARD
END:VTIMEZONE
BEGIN:VEVENT
DTSTAMP;TZID=Asia/Hong_Kong:20260420T142923
DTSTART;TZID=Asia/Hong_Kong:20191024T160000
DTEND;TZID=Asia/Hong_Kong:20191024T173000
LOCATION:Cheung On Tak Lecture Theater (LT-E)
SUMMARY:From the Bauhaus: visions, design and technology - Lecture - The White City, Israel: Conservation of the Bauhaus Architecture
UID:22287
END:VEVENT
END:VCALENDAR