BEGIN:VCALENDAR
PRODID:-//HKUST Drupal Platform//EN
VERSION:2.0
BEGIN:VTIMEZONE
TZID:Asia/Hong_Kong
BEGIN:STANDARD
DTSTART:20071104T020000
TZOFFSETFROM:+0700
TZOFFSETTO:+0800
TZNAME:HKT
END:STANDARD
END:VTIMEZONE
BEGIN:VEVENT
DTSTAMP;TZID=Asia/Hong_Kong:20260421T004952
DTSTART;TZID=Asia/Hong_Kong:20191122T103000
DTEND;TZID=Asia/Hong_Kong:20191122T111500
LOCATION:Room 6573, 6/F (Lifts 29/30), Academic Building, HKUST
SUMMARY:CHEM - PhD Student Seminar - Development of Organometallic Polymers
UID:22197
END:VEVENT
END:VCALENDAR