BEGIN:VCALENDAR
PRODID:-//HKUST Drupal Platform//EN
VERSION:2.0
BEGIN:VTIMEZONE
TZID:Asia/Hong_Kong
BEGIN:STANDARD
DTSTART:20071104T020000
TZOFFSETFROM:+0700
TZOFFSETTO:+0800
TZNAME:HKT
END:STANDARD
END:VTIMEZONE
BEGIN:VEVENT
DTSTAMP;TZID=Asia/Hong_Kong:20260420T152212
DTSTART;TZID=Asia/Hong_Kong:20191110T193000
DTEND;TZID=Asia/Hong_Kong:20191110T220000
LOCATION:Auditorium, Sha Tin Town Hall
SUMMARY:Complimentary Tickets - HKUST UPO Annual Concert 2019 (10 Nov 2019, Sunday, 7:30 pm)
UID:22183
END:VEVENT
END:VCALENDAR