BEGIN:VCALENDAR
PRODID:-//HKUST Drupal Platform//EN
VERSION:2.0
BEGIN:VTIMEZONE
TZID:Asia/Hong_Kong
BEGIN:STANDARD
DTSTART:20071104T020000
TZOFFSETFROM:+0700
TZOFFSETTO:+0800
TZNAME:HKT
END:STANDARD
END:VTIMEZONE
BEGIN:VEVENT
DTSTAMP;TZID=Asia/Hong_Kong:20260420T164045
DTSTART;TZID=Asia/Hong_Kong:20191115T190000
DTEND;TZID=Asia/Hong_Kong:20191115T203000
LOCATION:Tsang Shiu Tim Art Hall, HKUST, Hong Kong University of Science and Technology, Hong Kong
SUMMARY:粵劇之趣: 音樂鑼鼓與演員的互動 Cantonese Opera Music: Talk and Demonstration (節目取消 Event Cancelled)
UID:22137
END:VEVENT
END:VCALENDAR