BEGIN:VCALENDAR
PRODID:-//HKUST Drupal Platform//EN
VERSION:2.0
BEGIN:VTIMEZONE
TZID:Asia/Hong_Kong
BEGIN:STANDARD
DTSTART:20071104T020000
TZOFFSETFROM:+0700
TZOFFSETTO:+0800
TZNAME:HKT
END:STANDARD
END:VTIMEZONE
BEGIN:VEVENT
DTSTAMP;TZID=Asia/Hong_Kong:20260420T193937
DTSTART;TZID=Asia/Hong_Kong:20191104T103000
DTEND;TZID=Asia/Hong_Kong:20191104T120000
LOCATION:Room 4621, 4/F (Lifts 31/32), Academic Building, HKUST
SUMMARY:CHEM Seminar - “Voc-Increased” Ternary and Quaternary Blended Approach for Over 16% Efficiency Organic Photovoltaic Cells
UID:22123
END:VEVENT
END:VCALENDAR