BEGIN:VCALENDAR
PRODID:-//HKUST Drupal Platform//EN
VERSION:2.0
BEGIN:VTIMEZONE
TZID:Asia/Hong_Kong
BEGIN:STANDARD
DTSTART:20071104T020000
TZOFFSETFROM:+0700
TZOFFSETTO:+0800
TZNAME:HKT
END:STANDARD
END:VTIMEZONE
BEGIN:VEVENT
DTSTAMP;TZID=Asia/Hong_Kong:20260420T152214
DTSTART;TZID=Asia/Hong_Kong:20191227T130000
DTEND;TZID=Asia/Hong_Kong:20191227T173000
LOCATION:Yim Tin Tsai, Yim Tin Tsai, Sai Kung
SUMMARY:Special Event: Yim Tin Tsai Arts Festival 2019 Guided Tour
UID:21973
END:VEVENT
END:VCALENDAR